BEGIN:VCALENDAR
VERSION:2.0
PRODID:-//AZ State Fair - ECPv6.15.14//NONSGML v1.0//EN
CALSCALE:GREGORIAN
METHOD:PUBLISH
X-ORIGINAL-URL:https://azstatefair.com
X-WR-CALDESC:Events for AZ State Fair
REFRESH-INTERVAL;VALUE=DURATION:PT1H
X-Robots-Tag:noindex
X-PUBLISHED-TTL:PT1H
BEGIN:VTIMEZONE
TZID:America/Phoenix
BEGIN:STANDARD
TZOFFSETFROM:-0700
TZOFFSETTO:-0700
TZNAME:MST
DTSTART:20240101T000000
END:STANDARD
END:VTIMEZONE
BEGIN:VEVENT
DTSTART;TZID=America/Phoenix:20251026T120000
DTEND;TZID=America/Phoenix:20251026T210000
DTSTAMP:20260425T102053
CREATED:20250625T195551Z
LAST-MODIFIED:20251005T000328Z
UID:10001679-1761480000-1761512400@azstatefair.com
SUMMARY:Great American Petting Zoo
DESCRIPTION:Get up close and personal with furry and fuzzy friends. Snap a selfie with a sheep. Free with your Fair Admission.
URL:https://azstatefair.com/event/great-american-petting-zoo/2025-10-26/
LOCATION:Agriculture Center\, AZ\, United States
CATEGORIES:Animals
ATTACH;FMTTYPE=image/png:https://azstatefair.com/wp-content/uploads/2025/06/ft_petting-zoo.png
END:VEVENT
BEGIN:VEVENT
DTSTART;TZID=America/Phoenix:20251026T120000
DTEND;TZID=America/Phoenix:20251026T210000
DTSTAMP:20260425T102053
CREATED:20250625T193418Z
LAST-MODIFIED:20251005T000523Z
UID:10001425-1761480000-1761512400@azstatefair.com
SUMMARY:Kerr's Farm Tours Presented by AZ Milk Producers
DESCRIPTION:Experience Arizona’s agricultural roots at the State Fair! See adorable baby cows\, turkeys\, sheep\, goats\, and chicks up close in our engaging farm exhibit.
URL:https://azstatefair.com/event/kerrs-farm-tours-presented-by-az-milk-producers/2025-10-26/
LOCATION:Agriculture Center\, AZ\, United States
CATEGORIES:Animals
ATTACH;FMTTYPE=image/png:https://azstatefair.com/wp-content/uploads/2025/08/kerrs-farm-tours-pig.png
END:VEVENT
BEGIN:VEVENT
DTSTART;TZID=America/Phoenix:20251025T120000
DTEND;TZID=America/Phoenix:20251025T210000
DTSTAMP:20260425T102053
CREATED:20250625T195551Z
LAST-MODIFIED:20251005T000328Z
UID:10001678-1761393600-1761426000@azstatefair.com
SUMMARY:Great American Petting Zoo
DESCRIPTION:Get up close and personal with furry and fuzzy friends. Snap a selfie with a sheep. Free with your Fair Admission.
URL:https://azstatefair.com/event/great-american-petting-zoo/2025-10-25/
LOCATION:Agriculture Center\, AZ\, United States
CATEGORIES:Animals
ATTACH;FMTTYPE=image/png:https://azstatefair.com/wp-content/uploads/2025/06/ft_petting-zoo.png
END:VEVENT
BEGIN:VEVENT
DTSTART;TZID=America/Phoenix:20251025T120000
DTEND;TZID=America/Phoenix:20251025T210000
DTSTAMP:20260425T102053
CREATED:20250625T193418Z
LAST-MODIFIED:20251005T000523Z
UID:10001424-1761393600-1761426000@azstatefair.com
SUMMARY:Kerr's Farm Tours Presented by AZ Milk Producers
DESCRIPTION:Experience Arizona’s agricultural roots at the State Fair! See adorable baby cows\, turkeys\, sheep\, goats\, and chicks up close in our engaging farm exhibit.
URL:https://azstatefair.com/event/kerrs-farm-tours-presented-by-az-milk-producers/2025-10-25/
LOCATION:Agriculture Center\, AZ\, United States
CATEGORIES:Animals
ATTACH;FMTTYPE=image/png:https://azstatefair.com/wp-content/uploads/2025/08/kerrs-farm-tours-pig.png
END:VEVENT
BEGIN:VEVENT
DTSTART;TZID=America/Phoenix:20251024T120000
DTEND;TZID=America/Phoenix:20251024T210000
DTSTAMP:20260425T102053
CREATED:20250625T195551Z
LAST-MODIFIED:20251005T000328Z
UID:10001677-1761307200-1761339600@azstatefair.com
SUMMARY:Great American Petting Zoo
DESCRIPTION:Get up close and personal with furry and fuzzy friends. Snap a selfie with a sheep. Free with your Fair Admission.
URL:https://azstatefair.com/event/great-american-petting-zoo/2025-10-24/
LOCATION:Agriculture Center\, AZ\, United States
CATEGORIES:Animals
ATTACH;FMTTYPE=image/png:https://azstatefair.com/wp-content/uploads/2025/06/ft_petting-zoo.png
END:VEVENT
BEGIN:VEVENT
DTSTART;TZID=America/Phoenix:20251024T120000
DTEND;TZID=America/Phoenix:20251024T210000
DTSTAMP:20260425T102053
CREATED:20250625T193418Z
LAST-MODIFIED:20251005T000523Z
UID:10001423-1761307200-1761339600@azstatefair.com
SUMMARY:Kerr's Farm Tours Presented by AZ Milk Producers
DESCRIPTION:Experience Arizona’s agricultural roots at the State Fair! See adorable baby cows\, turkeys\, sheep\, goats\, and chicks up close in our engaging farm exhibit.
URL:https://azstatefair.com/event/kerrs-farm-tours-presented-by-az-milk-producers/2025-10-24/
LOCATION:Agriculture Center\, AZ\, United States
CATEGORIES:Animals
ATTACH;FMTTYPE=image/png:https://azstatefair.com/wp-content/uploads/2025/08/kerrs-farm-tours-pig.png
END:VEVENT
BEGIN:VEVENT
DTSTART;TZID=America/Phoenix:20251023T120000
DTEND;TZID=America/Phoenix:20251023T210000
DTSTAMP:20260425T102053
CREATED:20250625T195551Z
LAST-MODIFIED:20251005T000328Z
UID:10001676-1761220800-1761253200@azstatefair.com
SUMMARY:Great American Petting Zoo
DESCRIPTION:Get up close and personal with furry and fuzzy friends. Snap a selfie with a sheep. Free with your Fair Admission.
URL:https://azstatefair.com/event/great-american-petting-zoo/2025-10-23/
LOCATION:Agriculture Center\, AZ\, United States
CATEGORIES:Animals
ATTACH;FMTTYPE=image/png:https://azstatefair.com/wp-content/uploads/2025/06/ft_petting-zoo.png
END:VEVENT
BEGIN:VEVENT
DTSTART;TZID=America/Phoenix:20251023T120000
DTEND;TZID=America/Phoenix:20251023T210000
DTSTAMP:20260425T102054
CREATED:20250625T193418Z
LAST-MODIFIED:20251005T000523Z
UID:10001422-1761220800-1761253200@azstatefair.com
SUMMARY:Kerr's Farm Tours Presented by AZ Milk Producers
DESCRIPTION:Experience Arizona’s agricultural roots at the State Fair! See adorable baby cows\, turkeys\, sheep\, goats\, and chicks up close in our engaging farm exhibit.
URL:https://azstatefair.com/event/kerrs-farm-tours-presented-by-az-milk-producers/2025-10-23/
LOCATION:Agriculture Center\, AZ\, United States
CATEGORIES:Animals
ATTACH;FMTTYPE=image/png:https://azstatefair.com/wp-content/uploads/2025/08/kerrs-farm-tours-pig.png
END:VEVENT
BEGIN:VEVENT
DTSTART;TZID=America/Phoenix:20251019T120000
DTEND;TZID=America/Phoenix:20251019T210000
DTSTAMP:20260425T102054
CREATED:20250625T195551Z
LAST-MODIFIED:20251005T000328Z
UID:10001675-1760875200-1760907600@azstatefair.com
SUMMARY:Great American Petting Zoo
DESCRIPTION:Get up close and personal with furry and fuzzy friends. Snap a selfie with a sheep. Free with your Fair Admission.
URL:https://azstatefair.com/event/great-american-petting-zoo/2025-10-19/
LOCATION:Agriculture Center\, AZ\, United States
CATEGORIES:Animals
ATTACH;FMTTYPE=image/png:https://azstatefair.com/wp-content/uploads/2025/06/ft_petting-zoo.png
END:VEVENT
BEGIN:VEVENT
DTSTART;TZID=America/Phoenix:20251019T120000
DTEND;TZID=America/Phoenix:20251019T210000
DTSTAMP:20260425T102054
CREATED:20250625T193418Z
LAST-MODIFIED:20251005T000523Z
UID:10001421-1760875200-1760907600@azstatefair.com
SUMMARY:Kerr's Farm Tours Presented by AZ Milk Producers
DESCRIPTION:Experience Arizona’s agricultural roots at the State Fair! See adorable baby cows\, turkeys\, sheep\, goats\, and chicks up close in our engaging farm exhibit.
URL:https://azstatefair.com/event/kerrs-farm-tours-presented-by-az-milk-producers/2025-10-19/
LOCATION:Agriculture Center\, AZ\, United States
CATEGORIES:Animals
ATTACH;FMTTYPE=image/png:https://azstatefair.com/wp-content/uploads/2025/08/kerrs-farm-tours-pig.png
END:VEVENT
BEGIN:VEVENT
DTSTART;TZID=America/Phoenix:20251018T120000
DTEND;TZID=America/Phoenix:20251018T210000
DTSTAMP:20260425T102054
CREATED:20250625T195551Z
LAST-MODIFIED:20251005T000328Z
UID:10001674-1760788800-1760821200@azstatefair.com
SUMMARY:Great American Petting Zoo
DESCRIPTION:Get up close and personal with furry and fuzzy friends. Snap a selfie with a sheep. Free with your Fair Admission.
URL:https://azstatefair.com/event/great-american-petting-zoo/2025-10-18/
LOCATION:Agriculture Center\, AZ\, United States
CATEGORIES:Animals
ATTACH;FMTTYPE=image/png:https://azstatefair.com/wp-content/uploads/2025/06/ft_petting-zoo.png
END:VEVENT
BEGIN:VEVENT
DTSTART;TZID=America/Phoenix:20251018T120000
DTEND;TZID=America/Phoenix:20251018T210000
DTSTAMP:20260425T102054
CREATED:20250625T193418Z
LAST-MODIFIED:20251005T000523Z
UID:10001420-1760788800-1760821200@azstatefair.com
SUMMARY:Kerr's Farm Tours Presented by AZ Milk Producers
DESCRIPTION:Experience Arizona’s agricultural roots at the State Fair! See adorable baby cows\, turkeys\, sheep\, goats\, and chicks up close in our engaging farm exhibit.
URL:https://azstatefair.com/event/kerrs-farm-tours-presented-by-az-milk-producers/2025-10-18/
LOCATION:Agriculture Center\, AZ\, United States
CATEGORIES:Animals
ATTACH;FMTTYPE=image/png:https://azstatefair.com/wp-content/uploads/2025/08/kerrs-farm-tours-pig.png
END:VEVENT
BEGIN:VEVENT
DTSTART;TZID=America/Phoenix:20251017T120000
DTEND;TZID=America/Phoenix:20251017T210000
DTSTAMP:20260425T102054
CREATED:20250625T195551Z
LAST-MODIFIED:20251005T000328Z
UID:10001673-1760702400-1760734800@azstatefair.com
SUMMARY:Great American Petting Zoo
DESCRIPTION:Get up close and personal with furry and fuzzy friends. Snap a selfie with a sheep. Free with your Fair Admission.
URL:https://azstatefair.com/event/great-american-petting-zoo/2025-10-17/
LOCATION:Agriculture Center\, AZ\, United States
CATEGORIES:Animals
ATTACH;FMTTYPE=image/png:https://azstatefair.com/wp-content/uploads/2025/06/ft_petting-zoo.png
END:VEVENT
BEGIN:VEVENT
DTSTART;TZID=America/Phoenix:20251017T120000
DTEND;TZID=America/Phoenix:20251017T210000
DTSTAMP:20260425T102054
CREATED:20250625T193418Z
LAST-MODIFIED:20251005T000523Z
UID:10001419-1760702400-1760734800@azstatefair.com
SUMMARY:Kerr's Farm Tours Presented by AZ Milk Producers
DESCRIPTION:Experience Arizona’s agricultural roots at the State Fair! See adorable baby cows\, turkeys\, sheep\, goats\, and chicks up close in our engaging farm exhibit.
URL:https://azstatefair.com/event/kerrs-farm-tours-presented-by-az-milk-producers/2025-10-17/
LOCATION:Agriculture Center\, AZ\, United States
CATEGORIES:Animals
ATTACH;FMTTYPE=image/png:https://azstatefair.com/wp-content/uploads/2025/08/kerrs-farm-tours-pig.png
END:VEVENT
BEGIN:VEVENT
DTSTART;TZID=America/Phoenix:20251016T120000
DTEND;TZID=America/Phoenix:20251016T210000
DTSTAMP:20260425T102054
CREATED:20250625T195551Z
LAST-MODIFIED:20251005T000328Z
UID:10001672-1760616000-1760648400@azstatefair.com
SUMMARY:Great American Petting Zoo
DESCRIPTION:Get up close and personal with furry and fuzzy friends. Snap a selfie with a sheep. Free with your Fair Admission.
URL:https://azstatefair.com/event/great-american-petting-zoo/2025-10-16/
LOCATION:Agriculture Center\, AZ\, United States
CATEGORIES:Animals
ATTACH;FMTTYPE=image/png:https://azstatefair.com/wp-content/uploads/2025/06/ft_petting-zoo.png
END:VEVENT
BEGIN:VEVENT
DTSTART;TZID=America/Phoenix:20251016T120000
DTEND;TZID=America/Phoenix:20251016T210000
DTSTAMP:20260425T102054
CREATED:20250625T193418Z
LAST-MODIFIED:20251005T000523Z
UID:10001418-1760616000-1760648400@azstatefair.com
SUMMARY:Kerr's Farm Tours Presented by AZ Milk Producers
DESCRIPTION:Experience Arizona’s agricultural roots at the State Fair! See adorable baby cows\, turkeys\, sheep\, goats\, and chicks up close in our engaging farm exhibit.
URL:https://azstatefair.com/event/kerrs-farm-tours-presented-by-az-milk-producers/2025-10-16/
LOCATION:Agriculture Center\, AZ\, United States
CATEGORIES:Animals
ATTACH;FMTTYPE=image/png:https://azstatefair.com/wp-content/uploads/2025/08/kerrs-farm-tours-pig.png
END:VEVENT
BEGIN:VEVENT
DTSTART;TZID=America/Phoenix:20251012T120000
DTEND;TZID=America/Phoenix:20251012T210000
DTSTAMP:20260425T102054
CREATED:20250625T195551Z
LAST-MODIFIED:20251005T000328Z
UID:10001671-1760270400-1760302800@azstatefair.com
SUMMARY:Great American Petting Zoo
DESCRIPTION:Get up close and personal with furry and fuzzy friends. Snap a selfie with a sheep. Free with your Fair Admission.
URL:https://azstatefair.com/event/great-american-petting-zoo/2025-10-12/
LOCATION:Agriculture Center\, AZ\, United States
CATEGORIES:Animals
ATTACH;FMTTYPE=image/png:https://azstatefair.com/wp-content/uploads/2025/06/ft_petting-zoo.png
END:VEVENT
BEGIN:VEVENT
DTSTART;TZID=America/Phoenix:20251012T120000
DTEND;TZID=America/Phoenix:20251012T210000
DTSTAMP:20260425T102054
CREATED:20250625T193418Z
LAST-MODIFIED:20251005T000523Z
UID:10001417-1760270400-1760302800@azstatefair.com
SUMMARY:Kerr's Farm Tours Presented by AZ Milk Producers
DESCRIPTION:Experience Arizona’s agricultural roots at the State Fair! See adorable baby cows\, turkeys\, sheep\, goats\, and chicks up close in our engaging farm exhibit.
URL:https://azstatefair.com/event/kerrs-farm-tours-presented-by-az-milk-producers/2025-10-12/
LOCATION:Agriculture Center\, AZ\, United States
CATEGORIES:Animals
ATTACH;FMTTYPE=image/png:https://azstatefair.com/wp-content/uploads/2025/08/kerrs-farm-tours-pig.png
END:VEVENT
BEGIN:VEVENT
DTSTART;TZID=America/Phoenix:20251012T120000
DTEND;TZID=America/Phoenix:20251012T210000
DTSTAMP:20260425T102054
CREATED:20250623T231326Z
LAST-MODIFIED:20250913T175935Z
UID:10000137-1760270400-1760302800@azstatefair.com
SUMMARY:Rabbits and Cavy Show
DESCRIPTION:From Flemish Giants to Netherland Dwarfs\, discover the delightful world of rabbits and cavies. Meet these furry friends and see how they help us grow happiness—one hop at a time!
URL:https://azstatefair.com/event/rabbits-and-cavy-show/2025-10-12/
LOCATION:Agriculture Center\, AZ\, United States
CATEGORIES:Animals
ATTACH;FMTTYPE=image/png:https://azstatefair.com/wp-content/uploads/2025/06/ft_rabbits-and-cavy-1.png
END:VEVENT
BEGIN:VEVENT
DTSTART;TZID=America/Phoenix:20251011T120000
DTEND;TZID=America/Phoenix:20251011T210000
DTSTAMP:20260425T102054
CREATED:20250625T195551Z
LAST-MODIFIED:20251005T000328Z
UID:10001670-1760184000-1760216400@azstatefair.com
SUMMARY:Great American Petting Zoo
DESCRIPTION:Get up close and personal with furry and fuzzy friends. Snap a selfie with a sheep. Free with your Fair Admission.
URL:https://azstatefair.com/event/great-american-petting-zoo/2025-10-11/
LOCATION:Agriculture Center\, AZ\, United States
CATEGORIES:Animals
ATTACH;FMTTYPE=image/png:https://azstatefair.com/wp-content/uploads/2025/06/ft_petting-zoo.png
END:VEVENT
BEGIN:VEVENT
DTSTART;TZID=America/Phoenix:20251011T120000
DTEND;TZID=America/Phoenix:20251011T210000
DTSTAMP:20260425T102054
CREATED:20250625T193418Z
LAST-MODIFIED:20251005T000523Z
UID:10001416-1760184000-1760216400@azstatefair.com
SUMMARY:Kerr's Farm Tours Presented by AZ Milk Producers
DESCRIPTION:Experience Arizona’s agricultural roots at the State Fair! See adorable baby cows\, turkeys\, sheep\, goats\, and chicks up close in our engaging farm exhibit.
URL:https://azstatefair.com/event/kerrs-farm-tours-presented-by-az-milk-producers/2025-10-11/
LOCATION:Agriculture Center\, AZ\, United States
CATEGORIES:Animals
ATTACH;FMTTYPE=image/png:https://azstatefair.com/wp-content/uploads/2025/08/kerrs-farm-tours-pig.png
END:VEVENT
BEGIN:VEVENT
DTSTART;TZID=America/Phoenix:20251011T120000
DTEND;TZID=America/Phoenix:20251011T210000
DTSTAMP:20260425T102054
CREATED:20250623T231326Z
LAST-MODIFIED:20250913T175935Z
UID:10000136-1760184000-1760216400@azstatefair.com
SUMMARY:Rabbits and Cavy Show
DESCRIPTION:From Flemish Giants to Netherland Dwarfs\, discover the delightful world of rabbits and cavies. Meet these furry friends and see how they help us grow happiness—one hop at a time!
URL:https://azstatefair.com/event/rabbits-and-cavy-show/2025-10-11/
LOCATION:Agriculture Center\, AZ\, United States
CATEGORIES:Animals
ATTACH;FMTTYPE=image/png:https://azstatefair.com/wp-content/uploads/2025/06/ft_rabbits-and-cavy-1.png
END:VEVENT
BEGIN:VEVENT
DTSTART;TZID=America/Phoenix:20251010T120000
DTEND;TZID=America/Phoenix:20251010T210000
DTSTAMP:20260425T102054
CREATED:20250625T195551Z
LAST-MODIFIED:20251005T000328Z
UID:10001669-1760097600-1760130000@azstatefair.com
SUMMARY:Great American Petting Zoo
DESCRIPTION:Get up close and personal with furry and fuzzy friends. Snap a selfie with a sheep. Free with your Fair Admission.
URL:https://azstatefair.com/event/great-american-petting-zoo/2025-10-10/
LOCATION:Agriculture Center\, AZ\, United States
CATEGORIES:Animals
ATTACH;FMTTYPE=image/png:https://azstatefair.com/wp-content/uploads/2025/06/ft_petting-zoo.png
END:VEVENT
BEGIN:VEVENT
DTSTART;TZID=America/Phoenix:20251010T120000
DTEND;TZID=America/Phoenix:20251010T210000
DTSTAMP:20260425T102054
CREATED:20250625T193418Z
LAST-MODIFIED:20251005T000523Z
UID:10001415-1760097600-1760130000@azstatefair.com
SUMMARY:Kerr's Farm Tours Presented by AZ Milk Producers
DESCRIPTION:Experience Arizona’s agricultural roots at the State Fair! See adorable baby cows\, turkeys\, sheep\, goats\, and chicks up close in our engaging farm exhibit.
URL:https://azstatefair.com/event/kerrs-farm-tours-presented-by-az-milk-producers/2025-10-10/
LOCATION:Agriculture Center\, AZ\, United States
CATEGORIES:Animals
ATTACH;FMTTYPE=image/png:https://azstatefair.com/wp-content/uploads/2025/08/kerrs-farm-tours-pig.png
END:VEVENT
BEGIN:VEVENT
DTSTART;TZID=America/Phoenix:20251010T120000
DTEND;TZID=America/Phoenix:20251010T210000
DTSTAMP:20260425T102054
CREATED:20250623T231326Z
LAST-MODIFIED:20250913T175935Z
UID:10000135-1760097600-1760130000@azstatefair.com
SUMMARY:Rabbits and Cavy Show
DESCRIPTION:From Flemish Giants to Netherland Dwarfs\, discover the delightful world of rabbits and cavies. Meet these furry friends and see how they help us grow happiness—one hop at a time!
URL:https://azstatefair.com/event/rabbits-and-cavy-show/2025-10-10/
LOCATION:Agriculture Center\, AZ\, United States
CATEGORIES:Animals
ATTACH;FMTTYPE=image/png:https://azstatefair.com/wp-content/uploads/2025/06/ft_rabbits-and-cavy-1.png
END:VEVENT
BEGIN:VEVENT
DTSTART;TZID=America/Phoenix:20251009T120000
DTEND;TZID=America/Phoenix:20251009T210000
DTSTAMP:20260425T102054
CREATED:20250625T195551Z
LAST-MODIFIED:20251005T000328Z
UID:10001668-1760011200-1760043600@azstatefair.com
SUMMARY:Great American Petting Zoo
DESCRIPTION:Get up close and personal with furry and fuzzy friends. Snap a selfie with a sheep. Free with your Fair Admission.
URL:https://azstatefair.com/event/great-american-petting-zoo/2025-10-09/
LOCATION:Agriculture Center\, AZ\, United States
CATEGORIES:Animals
ATTACH;FMTTYPE=image/png:https://azstatefair.com/wp-content/uploads/2025/06/ft_petting-zoo.png
END:VEVENT
BEGIN:VEVENT
DTSTART;TZID=America/Phoenix:20251009T120000
DTEND;TZID=America/Phoenix:20251009T210000
DTSTAMP:20260425T102054
CREATED:20250625T193418Z
LAST-MODIFIED:20251005T000523Z
UID:10001414-1760011200-1760043600@azstatefair.com
SUMMARY:Kerr's Farm Tours Presented by AZ Milk Producers
DESCRIPTION:Experience Arizona’s agricultural roots at the State Fair! See adorable baby cows\, turkeys\, sheep\, goats\, and chicks up close in our engaging farm exhibit.
URL:https://azstatefair.com/event/kerrs-farm-tours-presented-by-az-milk-producers/2025-10-09/
LOCATION:Agriculture Center\, AZ\, United States
CATEGORIES:Animals
ATTACH;FMTTYPE=image/png:https://azstatefair.com/wp-content/uploads/2025/08/kerrs-farm-tours-pig.png
END:VEVENT
BEGIN:VEVENT
DTSTART;TZID=America/Phoenix:20251009T120000
DTEND;TZID=America/Phoenix:20251009T210000
DTSTAMP:20260425T102054
CREATED:20250623T231326Z
LAST-MODIFIED:20250913T175935Z
UID:10000134-1760011200-1760043600@azstatefair.com
SUMMARY:Rabbits and Cavy Show
DESCRIPTION:From Flemish Giants to Netherland Dwarfs\, discover the delightful world of rabbits and cavies. Meet these furry friends and see how they help us grow happiness—one hop at a time!
URL:https://azstatefair.com/event/rabbits-and-cavy-show/2025-10-09/
LOCATION:Agriculture Center\, AZ\, United States
CATEGORIES:Animals
ATTACH;FMTTYPE=image/png:https://azstatefair.com/wp-content/uploads/2025/06/ft_rabbits-and-cavy-1.png
END:VEVENT
BEGIN:VEVENT
DTSTART;TZID=America/Phoenix:20251005T120000
DTEND;TZID=America/Phoenix:20251005T210000
DTSTAMP:20260425T102054
CREATED:20250625T195551Z
LAST-MODIFIED:20251005T000328Z
UID:10001667-1759665600-1759698000@azstatefair.com
SUMMARY:Great American Petting Zoo
DESCRIPTION:Get up close and personal with furry and fuzzy friends. Snap a selfie with a sheep. Free with your Fair Admission.
URL:https://azstatefair.com/event/great-american-petting-zoo/2025-10-05/
LOCATION:Agriculture Center\, AZ\, United States
CATEGORIES:Animals
ATTACH;FMTTYPE=image/png:https://azstatefair.com/wp-content/uploads/2025/06/ft_petting-zoo.png
END:VEVENT
BEGIN:VEVENT
DTSTART;TZID=America/Phoenix:20251005T120000
DTEND;TZID=America/Phoenix:20251005T210000
DTSTAMP:20260425T102054
CREATED:20250625T193418Z
LAST-MODIFIED:20251005T000523Z
UID:10001413-1759665600-1759698000@azstatefair.com
SUMMARY:Kerr's Farm Tours Presented by AZ Milk Producers
DESCRIPTION:Experience Arizona’s agricultural roots at the State Fair! See adorable baby cows\, turkeys\, sheep\, goats\, and chicks up close in our engaging farm exhibit.
URL:https://azstatefair.com/event/kerrs-farm-tours-presented-by-az-milk-producers/2025-10-05/
LOCATION:Agriculture Center\, AZ\, United States
CATEGORIES:Animals
ATTACH;FMTTYPE=image/png:https://azstatefair.com/wp-content/uploads/2025/08/kerrs-farm-tours-pig.png
END:VEVENT
END:VCALENDAR