BEGIN:VCALENDAR
VERSION:2.0
PRODID:-//AZ State Fair - ECPv6.15.14//NONSGML v1.0//EN
CALSCALE:GREGORIAN
METHOD:PUBLISH
X-ORIGINAL-URL:https://azstatefair.com
X-WR-CALDESC:Events for AZ State Fair
REFRESH-INTERVAL;VALUE=DURATION:PT1H
X-Robots-Tag:noindex
X-PUBLISHED-TTL:PT1H
BEGIN:VTIMEZONE
TZID:America/Phoenix
BEGIN:STANDARD
TZOFFSETFROM:-0700
TZOFFSETTO:-0700
TZNAME:MST
DTSTART:20240101T000000
END:STANDARD
END:VTIMEZONE
BEGIN:VEVENT
DTSTART;TZID=America/Phoenix:20251025T120000
DTEND;TZID=America/Phoenix:20251025T220000
DTSTAMP:20260420T001605
CREATED:20250826T030811Z
LAST-MODIFIED:20250926T235029Z
UID:10002514-1761393600-1761429600@azstatefair.com
SUMMARY:Kids Activity Zone
DESCRIPTION:A cool place for kids to relax\, play\, and let their creativity shine. Little ones can solve fun puzzles\, color their favorite pictures\, and enjoy hands-on activities designed just for them.
URL:https://azstatefair.com/event/kids-activity-zone/2025-10-25/
CATEGORIES:Attractions
ATTACH;FMTTYPE=image/png:https://azstatefair.com/wp-content/uploads/2025/08/web_-Arizona-Wines-Display-1.png
END:VEVENT
BEGIN:VEVENT
DTSTART;TZID=America/Phoenix:20251025T120000
DTEND;TZID=America/Phoenix:20251025T220000
DTSTAMP:20260420T001605
CREATED:20250925T224822Z
LAST-MODIFIED:20251007T002228Z
UID:10003834-1761393600-1761429600@azstatefair.com
SUMMARY:Museum of Monsters
DESCRIPTION:Step inside Museum of Monsters\, perfect for those craving a dose of Hollywood magic with a spooky twist\, Museum of Monsters is where legends come to life and your feed gets a frighteningly fun upgrade. \nTicket price: $10 before October / $15 after October 1st
URL:https://azstatefair.com/event/museum-of-monsters/2025-10-25/
CATEGORIES:Attractions
ATTACH;FMTTYPE=image/jpeg:https://azstatefair.com/wp-content/uploads/2025/09/Museum-of-Monsters.jpg
END:VEVENT
BEGIN:VEVENT
DTSTART;TZID=America/Phoenix:20251025T120000
DTEND;TZID=America/Phoenix:20251025T220000
DTSTAMP:20260420T001605
CREATED:20250925T225308Z
LAST-MODIFIED:20251007T002217Z
UID:10003822-1761393600-1761429600@azstatefair.com
SUMMARY:Zombie Ball
DESCRIPTION:Step into the adrenaline-charged world of Zombie Ball\, where quick reflexes and steady aim make all the difference. Armed with safe\, glow-in-the-dark gel blasters\, see if you’ve got what it takes to outlast the undead. \nTicket Price: $10 during September Nights / $15 in October\nDual Pass for $15 before October / $20 after October 1st
URL:https://azstatefair.com/event/zombie-ball/2025-10-25/
CATEGORIES:Attractions
ATTACH;FMTTYPE=image/jpeg:https://azstatefair.com/wp-content/uploads/2025/09/Zombie-Ball.jpg
END:VEVENT
BEGIN:VEVENT
DTSTART;TZID=America/Phoenix:20251025T120000
DTEND;TZID=America/Phoenix:20251025T220000
DTSTAMP:20260420T001605
CREATED:20250927T233937Z
LAST-MODIFIED:20250927T234722Z
UID:10003749-1761393600-1761429600@azstatefair.com
SUMMARY:Painted Desert Stage Artist: Salim Adair
DESCRIPTION:Local Phoenix muralists bring their incredible unique talent to the Fair. Watch art come to life as a different artist everyday transforms a blank canvas to a one-of-a-kind  piece of art. From portraits of bands to fence climbing goats\, each picture will contain something Fair related. Paintings stay on display throughout the Fair. \nAbout Salim Adair: \nSalim Adair\, known as Creation80\, is a Phoenix-based comic book artist\, sculptor\, and painter. Focused on self-expression\, his work has been featured in local publications and throughout the city\, including First Fridays. A proud alumnus of Phoenix College and Arizona State University\, Salim continues to expand his creative footprint.
URL:https://azstatefair.com/event/painted-desert-stage-artist-salim-adair/
CATEGORIES:Attractions,Variety Entertainment
ATTACH;FMTTYPE=image/jpeg:https://azstatefair.com/wp-content/uploads/2025/09/unnamed-5.jpg
END:VEVENT
BEGIN:VEVENT
DTSTART;TZID=America/Phoenix:20251025T123000
DTEND;TZID=America/Phoenix:20251025T130000
DTSTAMP:20260420T001605
CREATED:20250904T054426Z
LAST-MODIFIED:20250904T054500Z
UID:10003094-1761395400-1761397200@azstatefair.com
SUMMARY:Billy Kidd
DESCRIPTION:Billy Kidd is a Magician that excels in all types of magic performance. Her sleight of hand skills as a close up artist combined with her experience doing stage and street magic have allowed Billy to perform in Theaters and on Television screens worldwide.
URL:https://azstatefair.com/event/billy-kidd/2025-10-25/1/
CATEGORIES:Variety Entertainment
ATTACH;FMTTYPE=image/jpeg:https://azstatefair.com/wp-content/uploads/2025/08/billy-kidd.jpg
END:VEVENT
BEGIN:VEVENT
DTSTART;TZID=America/Phoenix:20251025T123000
DTEND;TZID=America/Phoenix:20251025T211500
DTSTAMP:20260420T001605
CREATED:20250928T000314Z
LAST-MODIFIED:20250928T000314Z
UID:10003765-1761395400-1761426900@azstatefair.com
SUMMARY:Guitarist Stephen Lord
DESCRIPTION:Don’t miss Stephen\, a powerhouse vocalist and guitarist who brings energy and versatility to every stage. With a song list that spans Country\, Rock\, Blues\, Jazz\, and Top 40 hits from the 1930s to today\, his performances truly offer something for everyone. From heartfelt classics like Piano Man to crowd-pleasing rockers from ZZ Top\, Stephen blends musical talent with show-stopping entertainment – sometimes even breaking into fiery solos or playful stunts that keep audiences on their feet.
URL:https://azstatefair.com/event/guitarist-stephen-lord/2025-10-25/
CATEGORIES:Attractions,Variety Entertainment
ATTACH;FMTTYPE=image/jpeg:https://azstatefair.com/wp-content/uploads/2023/03/guitarist-stephen-ft-img.jpg
END:VEVENT
BEGIN:VEVENT
DTSTART;TZID=America/Phoenix:20251025T124500
DTEND;TZID=America/Phoenix:20251025T131500
DTSTAMP:20260420T001605
CREATED:20250903T034111Z
LAST-MODIFIED:20250924T163149Z
UID:10002754-1761396300-1761398100@azstatefair.com
SUMMARY:Circus Luminesence
DESCRIPTION:Location: \n10/2-10/5: Avenue Stage\n10/9-10/12: Strolling\n10/16-19/19: Skyline Stage\n10/23-10/26: Avenue Stage \nAward-winning juggling duo specializing in energetic vaudeville performances that include partner juggling\, futuristic electric unicycles and luminescent laughter.
URL:https://azstatefair.com/event/circus-luminesence/2025-10-25/1/
CATEGORIES:Variety Entertainment
ATTACH;FMTTYPE=image/png:https://azstatefair.com/wp-content/uploads/2025/08/circus-luminescence.png
END:VEVENT
BEGIN:VEVENT
DTSTART;TZID=America/Phoenix:20251025T131500
DTEND;TZID=America/Phoenix:20251025T134500
DTSTAMP:20260420T001605
CREATED:20250903T011336Z
LAST-MODIFIED:20251009T205743Z
UID:10002719-1761398100-1761399900@azstatefair.com
SUMMARY:Native Spirit
DESCRIPTION:Witness the beauty and grace of color and movement with beautiful and rhythmic sounds of the first nations. Learn about the original inhabitants of this land\, through world champion hoop dancers.
URL:https://azstatefair.com/event/native-spirit/2025-10-25/1/
CATEGORIES:Variety Entertainment
ATTACH;FMTTYPE=image/png:https://azstatefair.com/wp-content/uploads/2023/08/native-spirit-ft-img.png
END:VEVENT
BEGIN:VEVENT
DTSTART;TZID=America/Phoenix:20251025T133000
DTEND;TZID=America/Phoenix:20251025T140000
DTSTAMP:20260420T001605
CREATED:20250904T043658Z
LAST-MODIFIED:20251017T192636Z
UID:10003876-1761399000-1761400800@azstatefair.com
SUMMARY:Skip Banks Balloon Man
DESCRIPTION:Widely known as the Balloon Man\, this new vaudevillian performer blends classic songs and sound effects with pop culture.
URL:https://azstatefair.com/event/skip-banks-balloon-man/2025-10-25/4/
CATEGORIES:Variety Entertainment
ATTACH;FMTTYPE=image/png:https://azstatefair.com/wp-content/uploads/2024/08/skip-banks-ft-img.png
END:VEVENT
BEGIN:VEVENT
DTSTART;TZID=America/Phoenix:20251025T140000
DTEND;TZID=America/Phoenix:20251025T143000
DTSTAMP:20260420T001605
CREATED:20250624T174735Z
LAST-MODIFIED:20250920T195148Z
UID:10003568-1761400800-1761402600@azstatefair.com
SUMMARY:Oasis Camel Dairy Show
DESCRIPTION:Camels can thrive without water for up to two weeks\, carry up to 600 pounds\, and produce 5-6 litres of milk per day. Come learn what’s in a camel’s hump and what to make with camel milk.
URL:https://azstatefair.com/event/oasis-camel-dairy-show/2025-10-25/1/
CATEGORIES:Animals
ATTACH;FMTTYPE=image/png:https://azstatefair.com/wp-content/uploads/2025/06/ft_oasis-camel-dairy.png
END:VEVENT
BEGIN:VEVENT
DTSTART;TZID=America/Phoenix:20251025T140000
DTEND;TZID=America/Phoenix:20251025T143000
DTSTAMP:20260420T001605
CREATED:20250904T230345Z
LAST-MODIFIED:20250904T230753Z
UID:10003401-1761400800-1761402600@azstatefair.com
SUMMARY:Dueling Pirates High Dive
DESCRIPTION:Thu-Sun | Oct 2-26\n2:00 – 2:30 pm\n5:00 – 5:30 pm\n6:15 – 6:45 pm\n8:15 – 8:45 pm \n The high seas come alive in the desert\, with two 90 ft high dive towers\, plank diving\, clown diving\, and a dueling high dive that’ll make you yell “AAAARGH!”
URL:https://azstatefair.com/event/dueling-pirates-high-dive-2/2025-10-25/1/
CATEGORIES:Variety Entertainment
ATTACH;FMTTYPE=image/png:https://azstatefair.com/wp-content/uploads/2025/08/dueling-pirates.png
END:VEVENT
BEGIN:VEVENT
DTSTART;TZID=America/Phoenix:20251025T140000
DTEND;TZID=America/Phoenix:20251025T150000
DTSTAMP:20260420T001605
CREATED:20230329T033047Z
LAST-MODIFIED:20250811T222237Z
UID:10000127-1761400800-1761404400@azstatefair.com
SUMMARY:All Star Monster Trucks
DESCRIPTION:Free with Fair Admission \nLocation: Grandstand Arena \nFeel the roar of a no-rules\, no time limit\, no holds barred freestyle Monster Truck throwdown featuring two new trucks – Blockhead and Dirt Crew\, the original monster dump truck.
URL:https://azstatefair.com/event/theallstarmonstertrucks/2025-10-25/1/
CATEGORIES:Grandstand Series
ATTACH;FMTTYPE=image/png:https://azstatefair.com/wp-content/uploads/2025/06/ft_monster-trucks.png
END:VEVENT
BEGIN:VEVENT
DTSTART;TZID=America/Phoenix:20251025T141500
DTEND;TZID=America/Phoenix:20251025T144500
DTSTAMP:20260420T001605
CREATED:20250904T054426Z
LAST-MODIFIED:20250904T054500Z
UID:10003095-1761401700-1761403500@azstatefair.com
SUMMARY:Billy Kidd
DESCRIPTION:Billy Kidd is a Magician that excels in all types of magic performance. Her sleight of hand skills as a close up artist combined with her experience doing stage and street magic have allowed Billy to perform in Theaters and on Television screens worldwide.
URL:https://azstatefair.com/event/billy-kidd/2025-10-25/2/
CATEGORIES:Variety Entertainment
ATTACH;FMTTYPE=image/jpeg:https://azstatefair.com/wp-content/uploads/2025/08/billy-kidd.jpg
END:VEVENT
BEGIN:VEVENT
DTSTART;TZID=America/Phoenix:20251025T143000
DTEND;TZID=America/Phoenix:20251025T150000
DTSTAMP:20260420T001605
CREATED:20250903T034111Z
LAST-MODIFIED:20250924T163149Z
UID:10002755-1761402600-1761404400@azstatefair.com
SUMMARY:Circus Luminesence
DESCRIPTION:Location: \n10/2-10/5: Avenue Stage\n10/9-10/12: Strolling\n10/16-19/19: Skyline Stage\n10/23-10/26: Avenue Stage \nAward-winning juggling duo specializing in energetic vaudeville performances that include partner juggling\, futuristic electric unicycles and luminescent laughter.
URL:https://azstatefair.com/event/circus-luminesence/2025-10-25/2/
CATEGORIES:Variety Entertainment
ATTACH;FMTTYPE=image/png:https://azstatefair.com/wp-content/uploads/2025/08/circus-luminescence.png
END:VEVENT
BEGIN:VEVENT
DTSTART;TZID=America/Phoenix:20251025T144500
DTEND;TZID=America/Phoenix:20251025T151500
DTSTAMP:20260420T001605
CREATED:20250903T040455Z
LAST-MODIFIED:20250919T011025Z
UID:10002792-1761403500-1761405300@azstatefair.com
SUMMARY:Lessa Hoops
DESCRIPTION:Location\n10/9-10/12: Strolling\n10/16-10/19: Avenue Stage\n10/23-10/26:  Skyline Stage \nAn award winning hula hoop performer with mind bending flexibility that will leave you dazzled. Her 30 hoop “slinky” finale will leave your head spinning in amazement.
URL:https://azstatefair.com/event/lessa-hoops/2025-10-25/1/
CATEGORIES:Variety Entertainment
ATTACH;FMTTYPE=image/jpeg:https://azstatefair.com/wp-content/uploads/2025/08/lessa-hoops.jpg
END:VEVENT
BEGIN:VEVENT
DTSTART;TZID=America/Phoenix:20251025T144500
DTEND;TZID=America/Phoenix:20251025T151500
DTSTAMP:20260420T001605
CREATED:20250904T045509Z
LAST-MODIFIED:20251024T043459Z
UID:10003881-1761403500-1761405300@azstatefair.com
SUMMARY:Barrel O' Fun
DESCRIPTION:This classic presentation of magic and comedy featuring Charlie & Delilah will have you amazed and rolling in laughter.
URL:https://azstatefair.com/event/barrel-o-fun/2025-10-25/4/
CATEGORIES:Variety Entertainment
ATTACH;FMTTYPE=image/png:https://azstatefair.com/wp-content/uploads/2024/08/Barrel-O-Fun-ft-img.png
END:VEVENT
BEGIN:VEVENT
DTSTART;TZID=America/Phoenix:20251025T151500
DTEND;TZID=America/Phoenix:20251025T154500
DTSTAMP:20260420T001605
CREATED:20250903T050531Z
LAST-MODIFIED:20250903T050743Z
UID:10002838-1761405300-1761407100@azstatefair.com
SUMMARY:Squawk Talk
DESCRIPTION:Parrot keeper and behaviorist\, Nancy Riegler takes guests on a tour moving perch to perch through our little jungle-at-the-fair introducing eager onlookers to each of the birds giving each a chance to show off their own unique talents and stories. Educational and entertaining\, our colorful jungle clowns will teach you a thing or two about the Wonderful World of Parrots.
URL:https://azstatefair.com/event/squawk-talk/2025-10-25/1/
CATEGORIES:Variety Entertainment
ATTACH;FMTTYPE=image/jpeg:https://azstatefair.com/wp-content/uploads/2025/08/squawk-talk.jpg
END:VEVENT
BEGIN:VEVENT
DTSTART;TZID=America/Phoenix:20251025T153000
DTEND;TZID=America/Phoenix:20251025T160000
DTSTAMP:20260420T001605
CREATED:20251002T185132Z
LAST-MODIFIED:20251018T202537Z
UID:10003681-1761406200-1761408000@azstatefair.com
SUMMARY:Wheelie Fun Entertainment
DESCRIPTION:Roberto the Magnificent is one of the most entertaining and sought-after strolling acts in the country. His interactive display of different characters on a 6 foot unicycle is guaranteed to create smiles and laughter everywhere he goes. With over 10 different whacky personalities on his unicycle\, he likes to refer to his presentation as ‘Wheelie Fun Entertainment’.
URL:https://azstatefair.com/event/wheelie-fun-entertainment/2025-10-25/2/
CATEGORIES:Variety Entertainment
ATTACH;FMTTYPE=image/png:https://azstatefair.com/wp-content/uploads/2025/09/wheelie-fun.png
END:VEVENT
BEGIN:VEVENT
DTSTART;TZID=America/Phoenix:20251025T160000
DTEND;TZID=America/Phoenix:20251025T163000
DTSTAMP:20260420T001605
CREATED:20250904T041407Z
LAST-MODIFIED:20250920T195604Z
UID:10002967-1761408000-1761409800@azstatefair.com
SUMMARY:The Incredible Tanzanian Acrobats
DESCRIPTION:As a testament to the spirit and resilience of the Tanzanian people\, these acrobats showcase the rich traditions\, culture and creativity of Dar es Salaam.
URL:https://azstatefair.com/event/the-incredible-tanzanian-acrobats/2025-10-25/1/
CATEGORIES:Variety Entertainment
ATTACH;FMTTYPE=image/jpeg:https://azstatefair.com/wp-content/uploads/2025/08/Tanza.jpg
END:VEVENT
BEGIN:VEVENT
DTSTART;TZID=America/Phoenix:20251025T160000
DTEND;TZID=America/Phoenix:20251025T163000
DTSTAMP:20260420T001605
CREATED:20250904T054426Z
LAST-MODIFIED:20250904T054500Z
UID:10003096-1761408000-1761409800@azstatefair.com
SUMMARY:Billy Kidd
DESCRIPTION:Billy Kidd is a Magician that excels in all types of magic performance. Her sleight of hand skills as a close up artist combined with her experience doing stage and street magic have allowed Billy to perform in Theaters and on Television screens worldwide.
URL:https://azstatefair.com/event/billy-kidd/2025-10-25/3/
CATEGORIES:Variety Entertainment
ATTACH;FMTTYPE=image/jpeg:https://azstatefair.com/wp-content/uploads/2025/08/billy-kidd.jpg
END:VEVENT
BEGIN:VEVENT
DTSTART;TZID=America/Phoenix:20251025T160000
DTEND;TZID=America/Phoenix:20251025T170000
DTSTAMP:20260420T001605
CREATED:20230329T033047Z
LAST-MODIFIED:20250811T222237Z
UID:10000128-1761408000-1761411600@azstatefair.com
SUMMARY:All Star Monster Trucks
DESCRIPTION:Free with Fair Admission \nLocation: Grandstand Arena \nFeel the roar of a no-rules\, no time limit\, no holds barred freestyle Monster Truck throwdown featuring two new trucks – Blockhead and Dirt Crew\, the original monster dump truck.
URL:https://azstatefair.com/event/theallstarmonstertrucks/2025-10-25/2/
CATEGORIES:Grandstand Series
ATTACH;FMTTYPE=image/png:https://azstatefair.com/wp-content/uploads/2025/06/ft_monster-trucks.png
END:VEVENT
BEGIN:VEVENT
DTSTART;TZID=America/Phoenix:20251025T160000
DTEND;TZID=America/Phoenix:20251025T173000
DTSTAMP:20260420T001605
CREATED:20251010T213716Z
LAST-MODIFIED:20251010T213716Z
UID:10003846-1761408000-1761413400@azstatefair.com
SUMMARY:Outside the Line
DESCRIPTION:Come see Outside the Line live at the Whiskey & Wine Stage!
URL:https://azstatefair.com/event/outside-the-line/2025-10-25/1/
ATTACH;FMTTYPE=image/jpeg:https://azstatefair.com/wp-content/uploads/2025/10/Outside-the-Line-pic-w-bg-scaled.jpg
END:VEVENT
BEGIN:VEVENT
DTSTART;TZID=America/Phoenix:20251025T161500
DTEND;TZID=America/Phoenix:20251025T164500
DTSTAMP:20260420T001605
CREATED:20250903T011336Z
LAST-MODIFIED:20251009T205743Z
UID:10002720-1761408900-1761410700@azstatefair.com
SUMMARY:Native Spirit
DESCRIPTION:Witness the beauty and grace of color and movement with beautiful and rhythmic sounds of the first nations. Learn about the original inhabitants of this land\, through world champion hoop dancers.
URL:https://azstatefair.com/event/native-spirit/2025-10-25/2/
CATEGORIES:Variety Entertainment
ATTACH;FMTTYPE=image/png:https://azstatefair.com/wp-content/uploads/2023/08/native-spirit-ft-img.png
END:VEVENT
BEGIN:VEVENT
DTSTART;TZID=America/Phoenix:20251025T163000
DTEND;TZID=America/Phoenix:20251025T170000
DTSTAMP:20260420T001605
CREATED:20250624T174735Z
LAST-MODIFIED:20250920T195148Z
UID:10003569-1761409800-1761411600@azstatefair.com
SUMMARY:Oasis Camel Dairy Show
DESCRIPTION:Camels can thrive without water for up to two weeks\, carry up to 600 pounds\, and produce 5-6 litres of milk per day. Come learn what’s in a camel’s hump and what to make with camel milk.
URL:https://azstatefair.com/event/oasis-camel-dairy-show/2025-10-25/2/
CATEGORIES:Animals
ATTACH;FMTTYPE=image/png:https://azstatefair.com/wp-content/uploads/2025/06/ft_oasis-camel-dairy.png
END:VEVENT
BEGIN:VEVENT
DTSTART;TZID=America/Phoenix:20251025T163000
DTEND;TZID=America/Phoenix:20251025T170000
DTSTAMP:20260420T001605
CREATED:20250904T043658Z
LAST-MODIFIED:20251017T192636Z
UID:10002991-1761409800-1761411600@azstatefair.com
SUMMARY:Skip Banks Balloon Man
DESCRIPTION:Widely known as the Balloon Man\, this new vaudevillian performer blends classic songs and sound effects with pop culture.
URL:https://azstatefair.com/event/skip-banks-balloon-man/2025-10-25/1/
CATEGORIES:Variety Entertainment
ATTACH;FMTTYPE=image/png:https://azstatefair.com/wp-content/uploads/2024/08/skip-banks-ft-img.png
END:VEVENT
BEGIN:VEVENT
DTSTART;TZID=America/Phoenix:20251025T170000
DTEND;TZID=America/Phoenix:20251025T173000
DTSTAMP:20260420T001605
CREATED:20250904T230345Z
LAST-MODIFIED:20250904T230753Z
UID:10003402-1761411600-1761413400@azstatefair.com
SUMMARY:Dueling Pirates High Dive
DESCRIPTION:Thu-Sun | Oct 2-26\n2:00 – 2:30 pm\n5:00 – 5:30 pm\n6:15 – 6:45 pm\n8:15 – 8:45 pm \n The high seas come alive in the desert\, with two 90 ft high dive towers\, plank diving\, clown diving\, and a dueling high dive that’ll make you yell “AAAARGH!”
URL:https://azstatefair.com/event/dueling-pirates-high-dive-2/2025-10-25/2/
CATEGORIES:Variety Entertainment
ATTACH;FMTTYPE=image/png:https://azstatefair.com/wp-content/uploads/2025/08/dueling-pirates.png
END:VEVENT
BEGIN:VEVENT
DTSTART;TZID=America/Phoenix:20251025T174500
DTEND;TZID=America/Phoenix:20251025T181500
DTSTAMP:20260420T001605
CREATED:20250903T034111Z
LAST-MODIFIED:20250924T163149Z
UID:10002756-1761414300-1761416100@azstatefair.com
SUMMARY:Circus Luminesence
DESCRIPTION:Location: \n10/2-10/5: Avenue Stage\n10/9-10/12: Strolling\n10/16-19/19: Skyline Stage\n10/23-10/26: Avenue Stage \nAward-winning juggling duo specializing in energetic vaudeville performances that include partner juggling\, futuristic electric unicycles and luminescent laughter.
URL:https://azstatefair.com/event/circus-luminesence/2025-10-25/3/
CATEGORIES:Variety Entertainment
ATTACH;FMTTYPE=image/png:https://azstatefair.com/wp-content/uploads/2025/08/circus-luminescence.png
END:VEVENT
BEGIN:VEVENT
DTSTART;TZID=America/Phoenix:20251025T174500
DTEND;TZID=America/Phoenix:20251025T181500
DTSTAMP:20260420T001605
CREATED:20250903T040455Z
LAST-MODIFIED:20250919T011025Z
UID:10002793-1761414300-1761416100@azstatefair.com
SUMMARY:Lessa Hoops
DESCRIPTION:Location\n10/9-10/12: Strolling\n10/16-10/19: Avenue Stage\n10/23-10/26:  Skyline Stage \nAn award winning hula hoop performer with mind bending flexibility that will leave you dazzled. Her 30 hoop “slinky” finale will leave your head spinning in amazement.
URL:https://azstatefair.com/event/lessa-hoops/2025-10-25/2/
CATEGORIES:Variety Entertainment
ATTACH;FMTTYPE=image/jpeg:https://azstatefair.com/wp-content/uploads/2025/08/lessa-hoops.jpg
END:VEVENT
BEGIN:VEVENT
DTSTART;TZID=America/Phoenix:20251025T180000
DTEND;TZID=America/Phoenix:20251025T184500
DTSTAMP:20260420T001605
CREATED:20250730T223322Z
LAST-MODIFIED:20250915T213249Z
UID:10003490-1761415200-1761417900@azstatefair.com
SUMMARY:Riff Raff
DESCRIPTION:Monsoon season may be over\, but you can still be thunderstruck on your highway to hell. We salute those about to rock – all for FREE with your Fair Admission.
URL:https://azstatefair.com/event/riff-raff/2025-10-25/5/
CATEGORIES:Tribute Bands
ATTACH;FMTTYPE=image/png:https://azstatefair.com/wp-content/uploads/2025/07/tribute-bands_riff-raff-scaled.png
END:VEVENT
BEGIN:VEVENT
DTSTART;TZID=America/Phoenix:20251025T180000
DTEND;TZID=America/Phoenix:20251025T184500
DTSTAMP:20260420T001605
CREATED:20250904T052138Z
LAST-MODIFIED:20250913T184038Z
UID:10003060-1761415200-1761417900@azstatefair.com
SUMMARY:Comedy Hypnotist Tyzen
DESCRIPTION:Think you can’t be hypnotized? Think again. Described as “wickedly funny” and featured in L.A. Weekly\, this is a must see\, ever-changing\, crowd pleasing show.
URL:https://azstatefair.com/event/comedy-hypnotist-tyzen/2025-10-25/1/
CATEGORIES:Variety Entertainment
ATTACH;FMTTYPE=image/png:https://azstatefair.com/wp-content/uploads/2023/08/tyzen-blog-img.png
END:VEVENT
END:VCALENDAR