BEGIN:VCALENDAR
VERSION:2.0
PRODID:-//AZ State Fair - ECPv6.15.14//NONSGML v1.0//EN
CALSCALE:GREGORIAN
METHOD:PUBLISH
X-WR-CALNAME:AZ State Fair
X-ORIGINAL-URL:https://azstatefair.com
X-WR-CALDESC:Events for AZ State Fair
REFRESH-INTERVAL;VALUE=DURATION:PT1H
X-Robots-Tag:noindex
X-PUBLISHED-TTL:PT1H
BEGIN:VTIMEZONE
TZID:America/Phoenix
BEGIN:STANDARD
TZOFFSETFROM:-0700
TZOFFSETTO:-0700
TZNAME:MST
DTSTART:20240101T000000
END:STANDARD
END:VTIMEZONE
BEGIN:VEVENT
DTSTART;TZID=America/Phoenix:20251024T151500
DTEND;TZID=America/Phoenix:20251024T154500
DTSTAMP:20260419T223355
CREATED:20250903T050531Z
LAST-MODIFIED:20250903T050743Z
UID:10002835-1761318900-1761320700@azstatefair.com
SUMMARY:Squawk Talk
DESCRIPTION:Parrot keeper and behaviorist\, Nancy Riegler takes guests on a tour moving perch to perch through our little jungle-at-the-fair introducing eager onlookers to each of the birds giving each a chance to show off their own unique talents and stories. Educational and entertaining\, our colorful jungle clowns will teach you a thing or two about the Wonderful World of Parrots.
URL:https://azstatefair.com/event/squawk-talk/2025-10-24/1/
CATEGORIES:Variety Entertainment
ATTACH;FMTTYPE=image/jpeg:https://azstatefair.com/wp-content/uploads/2025/08/squawk-talk.jpg
END:VEVENT
BEGIN:VEVENT
DTSTART;TZID=America/Phoenix:20251024T153000
DTEND;TZID=America/Phoenix:20251024T160000
DTSTAMP:20260419T223355
CREATED:20251002T185132Z
LAST-MODIFIED:20251018T202537Z
UID:10003678-1761319800-1761321600@azstatefair.com
SUMMARY:Wheelie Fun Entertainment
DESCRIPTION:Roberto the Magnificent is one of the most entertaining and sought-after strolling acts in the country. His interactive display of different characters on a 6 foot unicycle is guaranteed to create smiles and laughter everywhere he goes. With over 10 different whacky personalities on his unicycle\, he likes to refer to his presentation as ‘Wheelie Fun Entertainment’.
URL:https://azstatefair.com/event/wheelie-fun-entertainment/2025-10-24/2/
CATEGORIES:Variety Entertainment
ATTACH;FMTTYPE=image/png:https://azstatefair.com/wp-content/uploads/2025/09/wheelie-fun.png
END:VEVENT
BEGIN:VEVENT
DTSTART;TZID=America/Phoenix:20251024T160000
DTEND;TZID=America/Phoenix:20251024T163000
DTSTAMP:20260419T223355
CREATED:20250904T041407Z
LAST-MODIFIED:20250920T195604Z
UID:10002964-1761321600-1761323400@azstatefair.com
SUMMARY:The Incredible Tanzanian Acrobats
DESCRIPTION:As a testament to the spirit and resilience of the Tanzanian people\, these acrobats showcase the rich traditions\, culture and creativity of Dar es Salaam.
URL:https://azstatefair.com/event/the-incredible-tanzanian-acrobats/2025-10-24/1/
CATEGORIES:Variety Entertainment
ATTACH;FMTTYPE=image/jpeg:https://azstatefair.com/wp-content/uploads/2025/08/Tanza.jpg
END:VEVENT
BEGIN:VEVENT
DTSTART;TZID=America/Phoenix:20251024T160000
DTEND;TZID=America/Phoenix:20251024T163000
DTSTAMP:20260419T223355
CREATED:20250904T054426Z
LAST-MODIFIED:20250904T054500Z
UID:10003093-1761321600-1761323400@azstatefair.com
SUMMARY:Billy Kidd
DESCRIPTION:Billy Kidd is a Magician that excels in all types of magic performance. Her sleight of hand skills as a close up artist combined with her experience doing stage and street magic have allowed Billy to perform in Theaters and on Television screens worldwide.
URL:https://azstatefair.com/event/billy-kidd/2025-10-24/3/
CATEGORIES:Variety Entertainment
ATTACH;FMTTYPE=image/jpeg:https://azstatefair.com/wp-content/uploads/2025/08/billy-kidd.jpg
END:VEVENT
BEGIN:VEVENT
DTSTART;TZID=America/Phoenix:20251024T160000
DTEND;TZID=America/Phoenix:20251024T163000
DTSTAMP:20260419T223355
CREATED:20250915T215108Z
LAST-MODIFIED:20250915T215108Z
UID:10003502-1761321600-1761323400@azstatefair.com
SUMMARY:Wildlife World Zoo
DESCRIPTION:Experience an up close encounter with unique wildlife from around the world. Learn from the experts at Wildlife World Zoo.
URL:https://azstatefair.com/event/wildlife-world-zoo/2025-10-24/1/
CATEGORIES:Animals,Variety Entertainment
ATTACH;FMTTYPE=image/png:https://azstatefair.com/wp-content/uploads/2024/09/wildlife-zoo.png
END:VEVENT
BEGIN:VEVENT
DTSTART;TZID=America/Phoenix:20251024T160000
DTEND;TZID=America/Phoenix:20251024T173000
DTSTAMP:20260419T223355
CREATED:20251010T214310Z
LAST-MODIFIED:20251010T214609Z
UID:10003853-1761321600-1761327000@azstatefair.com
SUMMARY:Lacey Rashea
DESCRIPTION:Location: \n10/23-10/24: Whiskey & Wine Stage\n10/25-10/26: The Hangout \nCome see Lacey Rashea live at the Arizona State Fair!
URL:https://azstatefair.com/event/lacey-rashea/2025-10-24/1/
ATTACH;FMTTYPE=image/jpeg:https://azstatefair.com/wp-content/uploads/2025/10/Lacey-Rashea-pic-w-bg-scaled.jpg
END:VEVENT
BEGIN:VEVENT
DTSTART;TZID=America/Phoenix:20251024T161500
DTEND;TZID=America/Phoenix:20251024T164500
DTSTAMP:20260419T223355
CREATED:20250903T011336Z
LAST-MODIFIED:20251009T205743Z
UID:10002717-1761322500-1761324300@azstatefair.com
SUMMARY:Native Spirit
DESCRIPTION:Witness the beauty and grace of color and movement with beautiful and rhythmic sounds of the first nations. Learn about the original inhabitants of this land\, through world champion hoop dancers.
URL:https://azstatefair.com/event/native-spirit/2025-10-24/2/
CATEGORIES:Variety Entertainment
ATTACH;FMTTYPE=image/png:https://azstatefair.com/wp-content/uploads/2023/08/native-spirit-ft-img.png
END:VEVENT
BEGIN:VEVENT
DTSTART;TZID=America/Phoenix:20251024T163000
DTEND;TZID=America/Phoenix:20251024T170000
DTSTAMP:20260419T223355
CREATED:20250624T174735Z
LAST-MODIFIED:20250920T195148Z
UID:10003566-1761323400-1761325200@azstatefair.com
SUMMARY:Oasis Camel Dairy Show
DESCRIPTION:Camels can thrive without water for up to two weeks\, carry up to 600 pounds\, and produce 5-6 litres of milk per day. Come learn what’s in a camel’s hump and what to make with camel milk.
URL:https://azstatefair.com/event/oasis-camel-dairy-show/2025-10-24/2/
CATEGORIES:Animals
ATTACH;FMTTYPE=image/png:https://azstatefair.com/wp-content/uploads/2025/06/ft_oasis-camel-dairy.png
END:VEVENT
BEGIN:VEVENT
DTSTART;TZID=America/Phoenix:20251024T163000
DTEND;TZID=America/Phoenix:20251024T170000
DTSTAMP:20260419T223355
CREATED:20250904T043658Z
LAST-MODIFIED:20251017T192636Z
UID:10002988-1761323400-1761325200@azstatefair.com
SUMMARY:Skip Banks Balloon Man
DESCRIPTION:Widely known as the Balloon Man\, this new vaudevillian performer blends classic songs and sound effects with pop culture.
URL:https://azstatefair.com/event/skip-banks-balloon-man/2025-10-24/1/
CATEGORIES:Variety Entertainment
ATTACH;FMTTYPE=image/png:https://azstatefair.com/wp-content/uploads/2024/08/skip-banks-ft-img.png
END:VEVENT
BEGIN:VEVENT
DTSTART;TZID=America/Phoenix:20251024T170000
DTEND;TZID=America/Phoenix:20251024T173000
DTSTAMP:20260419T223355
CREATED:20250904T230345Z
LAST-MODIFIED:20250904T230753Z
UID:10003398-1761325200-1761327000@azstatefair.com
SUMMARY:Dueling Pirates High Dive
DESCRIPTION:Thu-Sun | Oct 2-26\n2:00 – 2:30 pm\n5:00 – 5:30 pm\n6:15 – 6:45 pm\n8:15 – 8:45 pm \n The high seas come alive in the desert\, with two 90 ft high dive towers\, plank diving\, clown diving\, and a dueling high dive that’ll make you yell “AAAARGH!”
URL:https://azstatefair.com/event/dueling-pirates-high-dive-2/2025-10-24/2/
CATEGORIES:Variety Entertainment
ATTACH;FMTTYPE=image/png:https://azstatefair.com/wp-content/uploads/2025/08/dueling-pirates.png
END:VEVENT
BEGIN:VEVENT
DTSTART;TZID=America/Phoenix:20251024T173000
DTEND;TZID=America/Phoenix:20251024T180000
DTSTAMP:20260419T223355
CREATED:20250915T215108Z
LAST-MODIFIED:20250915T215108Z
UID:10003503-1761327000-1761328800@azstatefair.com
SUMMARY:Wildlife World Zoo
DESCRIPTION:Experience an up close encounter with unique wildlife from around the world. Learn from the experts at Wildlife World Zoo.
URL:https://azstatefair.com/event/wildlife-world-zoo/2025-10-24/2/
CATEGORIES:Animals,Variety Entertainment
ATTACH;FMTTYPE=image/png:https://azstatefair.com/wp-content/uploads/2024/09/wildlife-zoo.png
END:VEVENT
BEGIN:VEVENT
DTSTART;TZID=America/Phoenix:20251024T174500
DTEND;TZID=America/Phoenix:20251024T181500
DTSTAMP:20260419T223355
CREATED:20250903T034111Z
LAST-MODIFIED:20250924T163149Z
UID:10002753-1761327900-1761329700@azstatefair.com
SUMMARY:Circus Luminesence
DESCRIPTION:Location: \n10/2-10/5: Avenue Stage\n10/9-10/12: Strolling\n10/16-19/19: Skyline Stage\n10/23-10/26: Avenue Stage \nAward-winning juggling duo specializing in energetic vaudeville performances that include partner juggling\, futuristic electric unicycles and luminescent laughter.
URL:https://azstatefair.com/event/circus-luminesence/2025-10-24/3/
CATEGORIES:Variety Entertainment
ATTACH;FMTTYPE=image/png:https://azstatefair.com/wp-content/uploads/2025/08/circus-luminescence.png
END:VEVENT
BEGIN:VEVENT
DTSTART;TZID=America/Phoenix:20251024T174500
DTEND;TZID=America/Phoenix:20251024T181500
DTSTAMP:20260419T223355
CREATED:20250903T040455Z
LAST-MODIFIED:20250919T011025Z
UID:10002790-1761327900-1761329700@azstatefair.com
SUMMARY:Lessa Hoops
DESCRIPTION:Location\n10/9-10/12: Strolling\n10/16-10/19: Avenue Stage\n10/23-10/26:  Skyline Stage \nAn award winning hula hoop performer with mind bending flexibility that will leave you dazzled. Her 30 hoop “slinky” finale will leave your head spinning in amazement.
URL:https://azstatefair.com/event/lessa-hoops/2025-10-24/2/
CATEGORIES:Variety Entertainment
ATTACH;FMTTYPE=image/jpeg:https://azstatefair.com/wp-content/uploads/2025/08/lessa-hoops.jpg
END:VEVENT
BEGIN:VEVENT
DTSTART;TZID=America/Phoenix:20251024T180000
DTEND;TZID=America/Phoenix:20251024T184500
DTSTAMP:20260419T223355
CREATED:20250730T223524Z
LAST-MODIFIED:20250915T213239Z
UID:10003489-1761328800-1761331500@azstatefair.com
SUMMARY:Uptown Funk
DESCRIPTION:Turn up the lazy song and get your uptown funk on with this tribute to Bruno Mars.  I see your face!
URL:https://azstatefair.com/event/uptown-funk/2025-10-24/5/
CATEGORIES:Tribute Bands
ATTACH;FMTTYPE=image/png:https://azstatefair.com/wp-content/uploads/2025/07/tribute-bands_uptown-funk-scaled.png
END:VEVENT
BEGIN:VEVENT
DTSTART;TZID=America/Phoenix:20251024T180000
DTEND;TZID=America/Phoenix:20251024T184500
DTSTAMP:20260419T223355
CREATED:20250904T052138Z
LAST-MODIFIED:20250913T184038Z
UID:10003058-1761328800-1761331500@azstatefair.com
SUMMARY:Comedy Hypnotist Tyzen
DESCRIPTION:Think you can’t be hypnotized? Think again. Described as “wickedly funny” and featured in L.A. Weekly\, this is a must see\, ever-changing\, crowd pleasing show.
URL:https://azstatefair.com/event/comedy-hypnotist-tyzen/2025-10-24/1/
CATEGORIES:Variety Entertainment
ATTACH;FMTTYPE=image/png:https://azstatefair.com/wp-content/uploads/2023/08/tyzen-blog-img.png
END:VEVENT
BEGIN:VEVENT
DTSTART;TZID=America/Phoenix:20251024T180000
DTEND;TZID=America/Phoenix:20251024T210000
DTSTAMP:20260419T223355
CREATED:20251003T222323Z
LAST-MODIFIED:20251003T222323Z
UID:10003800-1761328800-1761339600@azstatefair.com
SUMMARY:TB2
DESCRIPTION:Come see TB2 Live at the Hangout on Oct 23-24 and at the Coliseum Club Stage on Oct 25-26!
URL:https://azstatefair.com/event/tb2/2025-10-24/
ATTACH;FMTTYPE=image/jpeg:https://azstatefair.com/wp-content/uploads/2025/10/TB2-pic-w-bg-scaled.jpg
END:VEVENT
BEGIN:VEVENT
DTSTART;TZID=America/Phoenix:20251024T180000
DTEND;TZID=America/Phoenix:20251024T210000
DTSTAMP:20260419T223355
CREATED:20251010T213058Z
LAST-MODIFIED:20251010T213058Z
UID:10003841-1761328800-1761339600@azstatefair.com
SUMMARY:Rachelle Romeo
DESCRIPTION:Come and see Rachelle Romeo Live at the Carnival Stage!
URL:https://azstatefair.com/event/rachelle-romeo/2025-10-24/
ATTACH;FMTTYPE=image/jpeg:https://azstatefair.com/wp-content/uploads/2025/10/Rachelle-pic-and-bg-scaled.jpg
END:VEVENT
BEGIN:VEVENT
DTSTART;TZID=America/Phoenix:20251024T180000
DTEND;TZID=America/Phoenix:20251024T210000
DTSTAMP:20260419T223355
CREATED:20251010T213447Z
LAST-MODIFIED:20251010T213447Z
UID:10003845-1761328800-1761339600@azstatefair.com
SUMMARY:Duffy King
DESCRIPTION:Come see Duffy King live at the Coliseum Club Stage!
URL:https://azstatefair.com/event/duffy-king/2025-10-24/
ATTACH;FMTTYPE=image/jpeg:https://azstatefair.com/wp-content/uploads/2025/10/Duffy-King-pic-w-bg-scaled.jpg
END:VEVENT
BEGIN:VEVENT
DTSTART;TZID=America/Phoenix:20251024T180000
DTEND;TZID=America/Phoenix:20251024T210000
DTSTAMP:20260419T223355
CREATED:20251010T214912Z
LAST-MODIFIED:20251010T214912Z
UID:10003858-1761328800-1761339600@azstatefair.com
SUMMARY:TB2
DESCRIPTION:Location: \n10/23-10/24: The Hangout\n10/25-10/26: Coliseum Club Stage \nCome see TB2 live at the Arizona State Fair!
URL:https://azstatefair.com/event/tb2-2/2025-10-24/
ATTACH;FMTTYPE=image/jpeg:https://azstatefair.com/wp-content/uploads/2025/10/TB2-pic-w-bg-scaled.jpg
END:VEVENT
BEGIN:VEVENT
DTSTART;TZID=America/Phoenix:20251024T181500
DTEND;TZID=America/Phoenix:20251024T184500
DTSTAMP:20260419T223355
CREATED:20250904T045509Z
LAST-MODIFIED:20251024T043459Z
UID:10003879-1761329700-1761331500@azstatefair.com
SUMMARY:Barrel O' Fun
DESCRIPTION:This classic presentation of magic and comedy featuring Charlie & Delilah will have you amazed and rolling in laughter.
URL:https://azstatefair.com/event/barrel-o-fun/2025-10-24/5/
CATEGORIES:Variety Entertainment
ATTACH;FMTTYPE=image/png:https://azstatefair.com/wp-content/uploads/2024/08/Barrel-O-Fun-ft-img.png
END:VEVENT
BEGIN:VEVENT
DTSTART;TZID=America/Phoenix:20251024T181500
DTEND;TZID=America/Phoenix:20251024T184500
DTSTAMP:20260419T223355
CREATED:20250904T230345Z
LAST-MODIFIED:20250904T230753Z
UID:10003399-1761329700-1761331500@azstatefair.com
SUMMARY:Dueling Pirates High Dive
DESCRIPTION:Thu-Sun | Oct 2-26\n2:00 – 2:30 pm\n5:00 – 5:30 pm\n6:15 – 6:45 pm\n8:15 – 8:45 pm \n The high seas come alive in the desert\, with two 90 ft high dive towers\, plank diving\, clown diving\, and a dueling high dive that’ll make you yell “AAAARGH!”
URL:https://azstatefair.com/event/dueling-pirates-high-dive-2/2025-10-24/3/
CATEGORIES:Variety Entertainment
ATTACH;FMTTYPE=image/png:https://azstatefair.com/wp-content/uploads/2025/08/dueling-pirates.png
END:VEVENT
BEGIN:VEVENT
DTSTART;TZID=America/Phoenix:20251024T181500
DTEND;TZID=America/Phoenix:20251024T184500
DTSTAMP:20260419T223355
CREATED:20251002T185132Z
LAST-MODIFIED:20251018T202537Z
UID:10003679-1761329700-1761331500@azstatefair.com
SUMMARY:Wheelie Fun Entertainment
DESCRIPTION:Roberto the Magnificent is one of the most entertaining and sought-after strolling acts in the country. His interactive display of different characters on a 6 foot unicycle is guaranteed to create smiles and laughter everywhere he goes. With over 10 different whacky personalities on his unicycle\, he likes to refer to his presentation as ‘Wheelie Fun Entertainment’.
URL:https://azstatefair.com/event/wheelie-fun-entertainment/2025-10-24/3/
CATEGORIES:Variety Entertainment
ATTACH;FMTTYPE=image/png:https://azstatefair.com/wp-content/uploads/2025/09/wheelie-fun.png
END:VEVENT
BEGIN:VEVENT
DTSTART;TZID=America/Phoenix:20251024T184500
DTEND;TZID=America/Phoenix:20251024T191500
DTSTAMP:20260419T223355
CREATED:20250903T050531Z
LAST-MODIFIED:20250903T050743Z
UID:10002836-1761331500-1761333300@azstatefair.com
SUMMARY:Squawk Talk
DESCRIPTION:Parrot keeper and behaviorist\, Nancy Riegler takes guests on a tour moving perch to perch through our little jungle-at-the-fair introducing eager onlookers to each of the birds giving each a chance to show off their own unique talents and stories. Educational and entertaining\, our colorful jungle clowns will teach you a thing or two about the Wonderful World of Parrots.
URL:https://azstatefair.com/event/squawk-talk/2025-10-24/2/
CATEGORIES:Variety Entertainment
ATTACH;FMTTYPE=image/jpeg:https://azstatefair.com/wp-content/uploads/2025/08/squawk-talk.jpg
END:VEVENT
BEGIN:VEVENT
DTSTART;TZID=America/Phoenix:20251024T190000
DTEND;TZID=America/Phoenix:20251024T193000
DTSTAMP:20260419T223355
CREATED:20250624T174735Z
LAST-MODIFIED:20250920T195148Z
UID:10003567-1761332400-1761334200@azstatefair.com
SUMMARY:Oasis Camel Dairy Show
DESCRIPTION:Camels can thrive without water for up to two weeks\, carry up to 600 pounds\, and produce 5-6 litres of milk per day. Come learn what’s in a camel’s hump and what to make with camel milk.
URL:https://azstatefair.com/event/oasis-camel-dairy-show/2025-10-24/3/
CATEGORIES:Animals
ATTACH;FMTTYPE=image/png:https://azstatefair.com/wp-content/uploads/2025/06/ft_oasis-camel-dairy.png
END:VEVENT
BEGIN:VEVENT
DTSTART;TZID=America/Phoenix:20251024T190000
DTEND;TZID=America/Phoenix:20251024T193000
DTSTAMP:20260419T223355
CREATED:20250904T043658Z
LAST-MODIFIED:20251017T192636Z
UID:10002989-1761332400-1761334200@azstatefair.com
SUMMARY:Skip Banks Balloon Man
DESCRIPTION:Widely known as the Balloon Man\, this new vaudevillian performer blends classic songs and sound effects with pop culture.
URL:https://azstatefair.com/event/skip-banks-balloon-man/2025-10-24/2/
CATEGORIES:Variety Entertainment
ATTACH;FMTTYPE=image/png:https://azstatefair.com/wp-content/uploads/2024/08/skip-banks-ft-img.png
END:VEVENT
BEGIN:VEVENT
DTSTART;TZID=America/Phoenix:20251024T190000
DTEND;TZID=America/Phoenix:20251024T200000
DTSTAMP:20260419T223355
CREATED:20230329T033047Z
LAST-MODIFIED:20250811T222237Z
UID:10000126-1761332400-1761336000@azstatefair.com
SUMMARY:All Star Monster Trucks
DESCRIPTION:Free with Fair Admission \nLocation: Grandstand Arena \nFeel the roar of a no-rules\, no time limit\, no holds barred freestyle Monster Truck throwdown featuring two new trucks – Blockhead and Dirt Crew\, the original monster dump truck.
URL:https://azstatefair.com/event/theallstarmonstertrucks/2025-10-24/
CATEGORIES:Grandstand Series
ATTACH;FMTTYPE=image/png:https://azstatefair.com/wp-content/uploads/2025/06/ft_monster-trucks.png
END:VEVENT
BEGIN:VEVENT
DTSTART;TZID=America/Phoenix:20251024T190000
DTEND;TZID=America/Phoenix:20251024T203000
DTSTAMP:20260419T223355
CREATED:20250630T222451Z
LAST-MODIFIED:20251004T040847Z
UID:10001144-1761332400-1761337800@azstatefair.com
SUMMARY:2Chainz
DESCRIPTION:  \nBUY TICKETS HERE \nGet ready for a night of pure energy as Grammy-winning rapper 2Chainz hits the stage at the Arizona State Fair. With platinum hits and iconic collabs this hip hop icon is bringing the heat for one night only to the Veteran’s Memorial Coliseum on Friday October 24\, 2025.
URL:https://azstatefair.com/event/2chainz/
CATEGORIES:Coliseum Concert Series,Concerts
ATTACH;FMTTYPE=image/png:https://azstatefair.com/wp-content/uploads/2025/06/2Chainz.png
END:VEVENT
BEGIN:VEVENT
DTSTART;TZID=America/Phoenix:20251024T190000
DTEND;TZID=America/Phoenix:20251024T203000
DTSTAMP:20260419T223355
CREATED:20251010T214310Z
LAST-MODIFIED:20251010T214609Z
UID:10003854-1761332400-1761337800@azstatefair.com
SUMMARY:Lacey Rashea
DESCRIPTION:Location: \n10/23-10/24: Whiskey & Wine Stage\n10/25-10/26: The Hangout \nCome see Lacey Rashea live at the Arizona State Fair!
URL:https://azstatefair.com/event/lacey-rashea/2025-10-24/2/
ATTACH;FMTTYPE=image/jpeg:https://azstatefair.com/wp-content/uploads/2025/10/Lacey-Rashea-pic-w-bg-scaled.jpg
END:VEVENT
BEGIN:VEVENT
DTSTART;TZID=America/Phoenix:20251024T191500
DTEND;TZID=America/Phoenix:20251024T194500
DTSTAMP:20260419T223355
CREATED:20250903T011336Z
LAST-MODIFIED:20251009T205743Z
UID:10002718-1761333300-1761335100@azstatefair.com
SUMMARY:Native Spirit
DESCRIPTION:Witness the beauty and grace of color and movement with beautiful and rhythmic sounds of the first nations. Learn about the original inhabitants of this land\, through world champion hoop dancers.
URL:https://azstatefair.com/event/native-spirit/2025-10-24/3/
CATEGORIES:Variety Entertainment
ATTACH;FMTTYPE=image/png:https://azstatefair.com/wp-content/uploads/2023/08/native-spirit-ft-img.png
END:VEVENT
BEGIN:VEVENT
DTSTART;TZID=America/Phoenix:20251024T193000
DTEND;TZID=America/Phoenix:20251024T200000
DTSTAMP:20260419T223355
CREATED:20250904T041407Z
LAST-MODIFIED:20250920T195604Z
UID:10002965-1761334200-1761336000@azstatefair.com
SUMMARY:The Incredible Tanzanian Acrobats
DESCRIPTION:As a testament to the spirit and resilience of the Tanzanian people\, these acrobats showcase the rich traditions\, culture and creativity of Dar es Salaam.
URL:https://azstatefair.com/event/the-incredible-tanzanian-acrobats/2025-10-24/2/
CATEGORIES:Variety Entertainment
ATTACH;FMTTYPE=image/jpeg:https://azstatefair.com/wp-content/uploads/2025/08/Tanza.jpg
END:VEVENT
END:VCALENDAR