BEGIN:VCALENDAR
VERSION:2.0
PRODID:-//AZ State Fair - ECPv6.15.14//NONSGML v1.0//EN
CALSCALE:GREGORIAN
METHOD:PUBLISH
X-WR-CALNAME:AZ State Fair
X-ORIGINAL-URL:https://azstatefair.com
X-WR-CALDESC:Events for AZ State Fair
REFRESH-INTERVAL;VALUE=DURATION:PT1H
X-Robots-Tag:noindex
X-PUBLISHED-TTL:PT1H
BEGIN:VTIMEZONE
TZID:America/Phoenix
BEGIN:STANDARD
TZOFFSETFROM:-0700
TZOFFSETTO:-0700
TZNAME:MST
DTSTART:20240101T000000
END:STANDARD
END:VTIMEZONE
BEGIN:VEVENT
DTSTART;TZID=America/Phoenix:20251017T120000
DTEND;TZID=America/Phoenix:20251017T210000
DTSTAMP:20260425T213608
CREATED:20250826T024658Z
LAST-MODIFIED:20250926T235427Z
UID:10002463-1760702400-1760734800@azstatefair.com
SUMMARY:Culinary Arts and Quilts
DESCRIPTION:Location: South Hall in the Veterans Memorial Coliseum \nExplore the heart of the Fair\, where local artistry and tradition come to life. Admire the incredible craftsmanship in every stitch of stunning quilts\, and savor a taste of homemade excellence with mouthwatering baked goods and perfectly preserved jams.
URL:https://azstatefair.com/event/culinary-arts-and-quilts/2025-10-17/
CATEGORIES:Competitive Entries
ATTACH;FMTTYPE=image/png:https://azstatefair.com/wp-content/uploads/2025/08/web_-Culinary-Arts-and-Quilts.png
END:VEVENT
BEGIN:VEVENT
DTSTART;TZID=America/Phoenix:20251017T120000
DTEND;TZID=America/Phoenix:20251017T210000
DTSTAMP:20260425T213608
CREATED:20250826T030224Z
LAST-MODIFIED:20250926T235346Z
UID:10002486-1760702400-1760734800@azstatefair.com
SUMMARY:Arizona Wines Display
DESCRIPTION:Location: South Hall in Veterans Memorial Coliseum\nFrom the high desert to sunny valleys\, Arizona wines are as vibrant as our landscapes. Stroll our display to explore bold reds\, crisp whites\, and see why Arizona is the next great wine destination.
URL:https://azstatefair.com/event/arizona-wines-display/2025-10-17/
CATEGORIES:Exhibit
ATTACH;FMTTYPE=image/jpeg:https://azstatefair.com/wp-content/uploads/2025/08/arizona-wines.jpg
END:VEVENT
BEGIN:VEVENT
DTSTART;TZID=America/Phoenix:20251017T120000
DTEND;TZID=America/Phoenix:20251017T210000
DTSTAMP:20260425T213608
CREATED:20250826T031503Z
LAST-MODIFIED:20251005T000139Z
UID:10002533-1760702400-1760734800@azstatefair.com
SUMMARY:Arizona is for Lovebirds
DESCRIPTION:Location:\nSeptember: Ag Center\nOctober: Paradise Perch \nBright\, colorful\, and full of personality — peach-faced lovebirds have made Phoenix their home! Originally from Africa\, these small parrots have flourished in our desert city\, nesting in palm trees and adding vibrant flashes of green\, blue\, and peach to our neighborhoods.
URL:https://azstatefair.com/event/arizona-is-for-lovebirds/2025-10-17/
CATEGORIES:Animals,Attractions
ATTACH;FMTTYPE=image/png:https://azstatefair.com/wp-content/uploads/2025/09/az-is-for-lovebirds.png
END:VEVENT
BEGIN:VEVENT
DTSTART;TZID=America/Phoenix:20251017T120000
DTEND;TZID=America/Phoenix:20251017T220000
DTSTAMP:20260425T213608
CREATED:20250826T030811Z
LAST-MODIFIED:20250926T235029Z
UID:10002509-1760702400-1760738400@azstatefair.com
SUMMARY:Kids Activity Zone
DESCRIPTION:A cool place for kids to relax\, play\, and let their creativity shine. Little ones can solve fun puzzles\, color their favorite pictures\, and enjoy hands-on activities designed just for them.
URL:https://azstatefair.com/event/kids-activity-zone/2025-10-17/
CATEGORIES:Attractions
ATTACH;FMTTYPE=image/png:https://azstatefair.com/wp-content/uploads/2025/08/web_-Arizona-Wines-Display-1.png
END:VEVENT
BEGIN:VEVENT
DTSTART;TZID=America/Phoenix:20251017T120000
DTEND;TZID=America/Phoenix:20251017T220000
DTSTAMP:20260425T213608
CREATED:20250925T224822Z
LAST-MODIFIED:20251007T002228Z
UID:10003829-1760702400-1760738400@azstatefair.com
SUMMARY:Museum of Monsters
DESCRIPTION:Step inside Museum of Monsters\, perfect for those craving a dose of Hollywood magic with a spooky twist\, Museum of Monsters is where legends come to life and your feed gets a frighteningly fun upgrade. \nTicket price: $10 before October / $15 after October 1st
URL:https://azstatefair.com/event/museum-of-monsters/2025-10-17/
CATEGORIES:Attractions
ATTACH;FMTTYPE=image/jpeg:https://azstatefair.com/wp-content/uploads/2025/09/Museum-of-Monsters.jpg
END:VEVENT
BEGIN:VEVENT
DTSTART;TZID=America/Phoenix:20251017T120000
DTEND;TZID=America/Phoenix:20251017T220000
DTSTAMP:20260425T213608
CREATED:20250925T225308Z
LAST-MODIFIED:20251007T002217Z
UID:10003817-1760702400-1760738400@azstatefair.com
SUMMARY:Zombie Ball
DESCRIPTION:Step into the adrenaline-charged world of Zombie Ball\, where quick reflexes and steady aim make all the difference. Armed with safe\, glow-in-the-dark gel blasters\, see if you’ve got what it takes to outlast the undead. \nTicket Price: $10 during September Nights / $15 in October\nDual Pass for $15 before October / $20 after October 1st
URL:https://azstatefair.com/event/zombie-ball/2025-10-17/
CATEGORIES:Attractions
ATTACH;FMTTYPE=image/jpeg:https://azstatefair.com/wp-content/uploads/2025/09/Zombie-Ball.jpg
END:VEVENT
BEGIN:VEVENT
DTSTART;TZID=America/Phoenix:20251017T123000
DTEND;TZID=America/Phoenix:20251017T130000
DTSTAMP:20260425T213609
CREATED:20250904T054426Z
LAST-MODIFIED:20250904T054500Z
UID:10003079-1760704200-1760706000@azstatefair.com
SUMMARY:Billy Kidd
DESCRIPTION:Billy Kidd is a Magician that excels in all types of magic performance. Her sleight of hand skills as a close up artist combined with her experience doing stage and street magic have allowed Billy to perform in Theaters and on Television screens worldwide.
URL:https://azstatefair.com/event/billy-kidd/2025-10-17/1/
CATEGORIES:Variety Entertainment
ATTACH;FMTTYPE=image/jpeg:https://azstatefair.com/wp-content/uploads/2025/08/billy-kidd.jpg
END:VEVENT
BEGIN:VEVENT
DTSTART;TZID=America/Phoenix:20251017T123000
DTEND;TZID=America/Phoenix:20251017T211500
DTSTAMP:20260425T213609
CREATED:20250928T000314Z
LAST-MODIFIED:20250928T000314Z
UID:10003760-1760704200-1760735700@azstatefair.com
SUMMARY:Guitarist Stephen Lord
DESCRIPTION:Don’t miss Stephen\, a powerhouse vocalist and guitarist who brings energy and versatility to every stage. With a song list that spans Country\, Rock\, Blues\, Jazz\, and Top 40 hits from the 1930s to today\, his performances truly offer something for everyone. From heartfelt classics like Piano Man to crowd-pleasing rockers from ZZ Top\, Stephen blends musical talent with show-stopping entertainment – sometimes even breaking into fiery solos or playful stunts that keep audiences on their feet.
URL:https://azstatefair.com/event/guitarist-stephen-lord/2025-10-17/
CATEGORIES:Attractions,Variety Entertainment
ATTACH;FMTTYPE=image/jpeg:https://azstatefair.com/wp-content/uploads/2023/03/guitarist-stephen-ft-img.jpg
END:VEVENT
BEGIN:VEVENT
DTSTART;TZID=America/Phoenix:20251017T124500
DTEND;TZID=America/Phoenix:20251017T131500
DTSTAMP:20260425T213609
CREATED:20250903T040455Z
LAST-MODIFIED:20250919T011025Z
UID:10002777-1760705100-1760706900@azstatefair.com
SUMMARY:Lessa Hoops
DESCRIPTION:Location\n10/9-10/12: Strolling\n10/16-10/19: Avenue Stage\n10/23-10/26:  Skyline Stage \nAn award winning hula hoop performer with mind bending flexibility that will leave you dazzled. Her 30 hoop “slinky” finale will leave your head spinning in amazement.
URL:https://azstatefair.com/event/lessa-hoops/2025-10-17/1/
CATEGORIES:Variety Entertainment
ATTACH;FMTTYPE=image/jpeg:https://azstatefair.com/wp-content/uploads/2025/08/lessa-hoops.jpg
END:VEVENT
BEGIN:VEVENT
DTSTART;TZID=America/Phoenix:20251017T130000
DTEND;TZID=America/Phoenix:20251017T133000
DTSTAMP:20260425T213609
CREATED:20250915T215826Z
LAST-MODIFIED:20250915T215826Z
UID:10003506-1760706000-1760707800@azstatefair.com
SUMMARY:Liberty Wildlife
DESCRIPTION:Envision a time when the community as a whole participates in the safekeeping of the natural world\, and get up close with wildlife right here at the Fair.
URL:https://azstatefair.com/event/liberty-wildlife/2025-10-17/
CATEGORIES:Animals,Variety Entertainment
ATTACH;FMTTYPE=image/png:https://azstatefair.com/wp-content/uploads/2025/09/liberty-wildlife.png
END:VEVENT
BEGIN:VEVENT
DTSTART;TZID=America/Phoenix:20251017T131500
DTEND;TZID=America/Phoenix:20251017T134500
DTSTAMP:20260425T213609
CREATED:20250903T011336Z
LAST-MODIFIED:20251009T205743Z
UID:10002704-1760706900-1760708700@azstatefair.com
SUMMARY:Native Spirit
DESCRIPTION:Witness the beauty and grace of color and movement with beautiful and rhythmic sounds of the first nations. Learn about the original inhabitants of this land\, through world champion hoop dancers.
URL:https://azstatefair.com/event/native-spirit/2025-10-17/1/
CATEGORIES:Variety Entertainment
ATTACH;FMTTYPE=image/png:https://azstatefair.com/wp-content/uploads/2023/08/native-spirit-ft-img.png
END:VEVENT
BEGIN:VEVENT
DTSTART;TZID=America/Phoenix:20251017T134500
DTEND;TZID=America/Phoenix:20251017T141500
DTSTAMP:20260425T213609
CREATED:20250904T031603Z
LAST-MODIFIED:20250913T194631Z
UID:10002892-1760708700-1760710500@azstatefair.com
SUMMARY:Salsa Steel Drum Band
DESCRIPTION:Spreading the joy of steel pan drum music across the nation\, including Latin\, Jazz\, Reggae\, Oldies\, kids songs\, Jimmy Buffett/Bob Marley\, this popular steel drum band plays it all.
URL:https://azstatefair.com/event/salsa-steel-drum-band/2025-10-17/1/
CATEGORIES:Variety Entertainment
ATTACH;FMTTYPE=image/jpeg:https://azstatefair.com/wp-content/uploads/2023/08/Salsa-Steel-Drum-Band-1.jpg
END:VEVENT
BEGIN:VEVENT
DTSTART;TZID=America/Phoenix:20251017T134500
DTEND;TZID=America/Phoenix:20251017T141500
DTSTAMP:20260425T213609
CREATED:20251002T185132Z
LAST-MODIFIED:20251018T202537Z
UID:10003665-1760708700-1760710500@azstatefair.com
SUMMARY:Wheelie Fun Entertainment
DESCRIPTION:Roberto the Magnificent is one of the most entertaining and sought-after strolling acts in the country. His interactive display of different characters on a 6 foot unicycle is guaranteed to create smiles and laughter everywhere he goes. With over 10 different whacky personalities on his unicycle\, he likes to refer to his presentation as ‘Wheelie Fun Entertainment’.
URL:https://azstatefair.com/event/wheelie-fun-entertainment/2025-10-17/1/
CATEGORIES:Variety Entertainment
ATTACH;FMTTYPE=image/png:https://azstatefair.com/wp-content/uploads/2025/09/wheelie-fun.png
END:VEVENT
BEGIN:VEVENT
DTSTART;TZID=America/Phoenix:20251017T140000
DTEND;TZID=America/Phoenix:20251017T143000
DTSTAMP:20260425T213609
CREATED:20250624T174735Z
LAST-MODIFIED:20250920T195148Z
UID:10003449-1760709600-1760711400@azstatefair.com
SUMMARY:Oasis Camel Dairy Show
DESCRIPTION:Camels can thrive without water for up to two weeks\, carry up to 600 pounds\, and produce 5-6 litres of milk per day. Come learn what’s in a camel’s hump and what to make with camel milk.
URL:https://azstatefair.com/event/oasis-camel-dairy-show/2025-10-17/1/
CATEGORIES:Animals
ATTACH;FMTTYPE=image/png:https://azstatefair.com/wp-content/uploads/2025/06/ft_oasis-camel-dairy.png
END:VEVENT
BEGIN:VEVENT
DTSTART;TZID=America/Phoenix:20251017T140000
DTEND;TZID=America/Phoenix:20251017T143000
DTSTAMP:20260425T213609
CREATED:20250904T230345Z
LAST-MODIFIED:20250904T230753Z
UID:10003381-1760709600-1760711400@azstatefair.com
SUMMARY:Dueling Pirates High Dive
DESCRIPTION:Thu-Sun | Oct 2-26\n2:00 – 2:30 pm\n5:00 – 5:30 pm\n6:15 – 6:45 pm\n8:15 – 8:45 pm \n The high seas come alive in the desert\, with two 90 ft high dive towers\, plank diving\, clown diving\, and a dueling high dive that’ll make you yell “AAAARGH!”
URL:https://azstatefair.com/event/dueling-pirates-high-dive-2/2025-10-17/1/
CATEGORIES:Variety Entertainment
ATTACH;FMTTYPE=image/png:https://azstatefair.com/wp-content/uploads/2025/08/dueling-pirates.png
END:VEVENT
BEGIN:VEVENT
DTSTART;TZID=America/Phoenix:20251017T141500
DTEND;TZID=America/Phoenix:20251017T144500
DTSTAMP:20260425T213609
CREATED:20250904T054426Z
LAST-MODIFIED:20250904T054500Z
UID:10003080-1760710500-1760712300@azstatefair.com
SUMMARY:Billy Kidd
DESCRIPTION:Billy Kidd is a Magician that excels in all types of magic performance. Her sleight of hand skills as a close up artist combined with her experience doing stage and street magic have allowed Billy to perform in Theaters and on Television screens worldwide.
URL:https://azstatefair.com/event/billy-kidd/2025-10-17/2/
CATEGORIES:Variety Entertainment
ATTACH;FMTTYPE=image/jpeg:https://azstatefair.com/wp-content/uploads/2025/08/billy-kidd.jpg
END:VEVENT
BEGIN:VEVENT
DTSTART;TZID=America/Phoenix:20251017T143000
DTEND;TZID=America/Phoenix:20251017T150000
DTSTAMP:20260425T213609
CREATED:20250903T040455Z
LAST-MODIFIED:20250919T011025Z
UID:10002778-1760711400-1760713200@azstatefair.com
SUMMARY:Lessa Hoops
DESCRIPTION:Location\n10/9-10/12: Strolling\n10/16-10/19: Avenue Stage\n10/23-10/26:  Skyline Stage \nAn award winning hula hoop performer with mind bending flexibility that will leave you dazzled. Her 30 hoop “slinky” finale will leave your head spinning in amazement.
URL:https://azstatefair.com/event/lessa-hoops/2025-10-17/2/
CATEGORIES:Variety Entertainment
ATTACH;FMTTYPE=image/jpeg:https://azstatefair.com/wp-content/uploads/2025/08/lessa-hoops.jpg
END:VEVENT
BEGIN:VEVENT
DTSTART;TZID=America/Phoenix:20251017T144500
DTEND;TZID=America/Phoenix:20251017T151400
DTSTAMP:20260425T213609
CREATED:20250903T011336Z
LAST-MODIFIED:20251009T205743Z
UID:10003838-1760712300-1760714040@azstatefair.com
SUMMARY:Native Spirit
DESCRIPTION:Witness the beauty and grace of color and movement with beautiful and rhythmic sounds of the first nations. Learn about the original inhabitants of this land\, through world champion hoop dancers.
URL:https://azstatefair.com/event/native-spirit/2025-10-17/5/
CATEGORIES:Variety Entertainment
ATTACH;FMTTYPE=image/png:https://azstatefair.com/wp-content/uploads/2023/08/native-spirit-ft-img.png
END:VEVENT
BEGIN:VEVENT
DTSTART;TZID=America/Phoenix:20251017T144500
DTEND;TZID=America/Phoenix:20251017T151500
DTSTAMP:20260425T213609
CREATED:20250903T034111Z
LAST-MODIFIED:20250924T163149Z
UID:10003468-1760712300-1760714100@azstatefair.com
SUMMARY:Circus Luminesence
DESCRIPTION:Location: \n10/2-10/5: Avenue Stage\n10/9-10/12: Strolling\n10/16-19/19: Skyline Stage\n10/23-10/26: Avenue Stage \nAward-winning juggling duo specializing in energetic vaudeville performances that include partner juggling\, futuristic electric unicycles and luminescent laughter.
URL:https://azstatefair.com/event/circus-luminesence/2025-10-17/4/
CATEGORIES:Variety Entertainment
ATTACH;FMTTYPE=image/png:https://azstatefair.com/wp-content/uploads/2025/08/circus-luminescence.png
END:VEVENT
BEGIN:VEVENT
DTSTART;TZID=America/Phoenix:20251017T151500
DTEND;TZID=America/Phoenix:20251017T154500
DTSTAMP:20260425T213609
CREATED:20250903T050531Z
LAST-MODIFIED:20250903T050743Z
UID:10002823-1760714100-1760715900@azstatefair.com
SUMMARY:Squawk Talk
DESCRIPTION:Parrot keeper and behaviorist\, Nancy Riegler takes guests on a tour moving perch to perch through our little jungle-at-the-fair introducing eager onlookers to each of the birds giving each a chance to show off their own unique talents and stories. Educational and entertaining\, our colorful jungle clowns will teach you a thing or two about the Wonderful World of Parrots.
URL:https://azstatefair.com/event/squawk-talk/2025-10-17/1/
CATEGORIES:Variety Entertainment
ATTACH;FMTTYPE=image/jpeg:https://azstatefair.com/wp-content/uploads/2025/08/squawk-talk.jpg
END:VEVENT
BEGIN:VEVENT
DTSTART;TZID=America/Phoenix:20251017T153000
DTEND;TZID=America/Phoenix:20251017T160000
DTSTAMP:20260425T213609
CREATED:20250904T045509Z
LAST-MODIFIED:20251024T043459Z
UID:10003000-1760715000-1760716800@azstatefair.com
SUMMARY:Barrel O' Fun
DESCRIPTION:This classic presentation of magic and comedy featuring Charlie & Delilah will have you amazed and rolling in laughter.
URL:https://azstatefair.com/event/barrel-o-fun/2025-10-17/1/
CATEGORIES:Variety Entertainment
ATTACH;FMTTYPE=image/png:https://azstatefair.com/wp-content/uploads/2024/08/Barrel-O-Fun-ft-img.png
END:VEVENT
BEGIN:VEVENT
DTSTART;TZID=America/Phoenix:20251017T160000
DTEND;TZID=America/Phoenix:20251017T163000
DTSTAMP:20260425T213609
CREATED:20250904T041407Z
LAST-MODIFIED:20250920T195604Z
UID:10002952-1760716800-1760718600@azstatefair.com
SUMMARY:The Incredible Tanzanian Acrobats
DESCRIPTION:As a testament to the spirit and resilience of the Tanzanian people\, these acrobats showcase the rich traditions\, culture and creativity of Dar es Salaam.
URL:https://azstatefair.com/event/the-incredible-tanzanian-acrobats/2025-10-17/1/
CATEGORIES:Variety Entertainment
ATTACH;FMTTYPE=image/jpeg:https://azstatefair.com/wp-content/uploads/2025/08/Tanza.jpg
END:VEVENT
BEGIN:VEVENT
DTSTART;TZID=America/Phoenix:20251017T160000
DTEND;TZID=America/Phoenix:20251017T163000
DTSTAMP:20260425T213609
CREATED:20250904T054426Z
LAST-MODIFIED:20250904T054500Z
UID:10003081-1760716800-1760718600@azstatefair.com
SUMMARY:Billy Kidd
DESCRIPTION:Billy Kidd is a Magician that excels in all types of magic performance. Her sleight of hand skills as a close up artist combined with her experience doing stage and street magic have allowed Billy to perform in Theaters and on Television screens worldwide.
URL:https://azstatefair.com/event/billy-kidd/2025-10-17/3/
CATEGORIES:Variety Entertainment
ATTACH;FMTTYPE=image/jpeg:https://azstatefair.com/wp-content/uploads/2025/08/billy-kidd.jpg
END:VEVENT
BEGIN:VEVENT
DTSTART;TZID=America/Phoenix:20251017T160000
DTEND;TZID=America/Phoenix:20251017T173000
DTSTAMP:20260425T213609
CREATED:20251003T215658Z
LAST-MODIFIED:20251003T220132Z
UID:10003793-1760716800-1760722200@azstatefair.com
SUMMARY:Lucas Brown
DESCRIPTION:Come see Lucas Brown Live at the Whiskey & Wine Stage!
URL:https://azstatefair.com/event/lucas-brown/2025-10-17/1/
ATTACH;FMTTYPE=image/jpeg:https://azstatefair.com/wp-content/uploads/2025/10/Lucas-Brown-pic-w-bg-scaled.jpg
END:VEVENT
BEGIN:VEVENT
DTSTART;TZID=America/Phoenix:20251017T161500
DTEND;TZID=America/Phoenix:20251017T164500
DTSTAMP:20260425T213609
CREATED:20250903T011336Z
LAST-MODIFIED:20251009T205743Z
UID:10002706-1760717700-1760719500@azstatefair.com
SUMMARY:Native Spirit
DESCRIPTION:Witness the beauty and grace of color and movement with beautiful and rhythmic sounds of the first nations. Learn about the original inhabitants of this land\, through world champion hoop dancers.
URL:https://azstatefair.com/event/native-spirit/2025-10-17/3/
CATEGORIES:Variety Entertainment
ATTACH;FMTTYPE=image/png:https://azstatefair.com/wp-content/uploads/2023/08/native-spirit-ft-img.png
END:VEVENT
BEGIN:VEVENT
DTSTART;TZID=America/Phoenix:20251017T163000
DTEND;TZID=America/Phoenix:20251017T170000
DTSTAMP:20260425T213609
CREATED:20250624T174735Z
LAST-MODIFIED:20250920T195148Z
UID:10003450-1760718600-1760720400@azstatefair.com
SUMMARY:Oasis Camel Dairy Show
DESCRIPTION:Camels can thrive without water for up to two weeks\, carry up to 600 pounds\, and produce 5-6 litres of milk per day. Come learn what’s in a camel’s hump and what to make with camel milk.
URL:https://azstatefair.com/event/oasis-camel-dairy-show/2025-10-17/2/
CATEGORIES:Animals
ATTACH;FMTTYPE=image/png:https://azstatefair.com/wp-content/uploads/2025/06/ft_oasis-camel-dairy.png
END:VEVENT
BEGIN:VEVENT
DTSTART;TZID=America/Phoenix:20251017T163000
DTEND;TZID=America/Phoenix:20251017T170000
DTSTAMP:20260425T213609
CREATED:20251002T185132Z
LAST-MODIFIED:20251018T202537Z
UID:10003666-1760718600-1760720400@azstatefair.com
SUMMARY:Wheelie Fun Entertainment
DESCRIPTION:Roberto the Magnificent is one of the most entertaining and sought-after strolling acts in the country. His interactive display of different characters on a 6 foot unicycle is guaranteed to create smiles and laughter everywhere he goes. With over 10 different whacky personalities on his unicycle\, he likes to refer to his presentation as ‘Wheelie Fun Entertainment’.
URL:https://azstatefair.com/event/wheelie-fun-entertainment/2025-10-17/2/
CATEGORIES:Variety Entertainment
ATTACH;FMTTYPE=image/png:https://azstatefair.com/wp-content/uploads/2025/09/wheelie-fun.png
END:VEVENT
BEGIN:VEVENT
DTSTART;TZID=America/Phoenix:20251017T164500
DTEND;TZID=America/Phoenix:20251017T171500
DTSTAMP:20260425T213609
CREATED:20250904T031603Z
LAST-MODIFIED:20250913T194631Z
UID:10002893-1760719500-1760721300@azstatefair.com
SUMMARY:Salsa Steel Drum Band
DESCRIPTION:Spreading the joy of steel pan drum music across the nation\, including Latin\, Jazz\, Reggae\, Oldies\, kids songs\, Jimmy Buffett/Bob Marley\, this popular steel drum band plays it all.
URL:https://azstatefair.com/event/salsa-steel-drum-band/2025-10-17/2/
CATEGORIES:Variety Entertainment
ATTACH;FMTTYPE=image/jpeg:https://azstatefair.com/wp-content/uploads/2023/08/Salsa-Steel-Drum-Band-1.jpg
END:VEVENT
BEGIN:VEVENT
DTSTART;TZID=America/Phoenix:20251017T170000
DTEND;TZID=America/Phoenix:20251017T173000
DTSTAMP:20260425T213609
CREATED:20250904T230345Z
LAST-MODIFIED:20250904T230753Z
UID:10003382-1760720400-1760722200@azstatefair.com
SUMMARY:Dueling Pirates High Dive
DESCRIPTION:Thu-Sun | Oct 2-26\n2:00 – 2:30 pm\n5:00 – 5:30 pm\n6:15 – 6:45 pm\n8:15 – 8:45 pm \n The high seas come alive in the desert\, with two 90 ft high dive towers\, plank diving\, clown diving\, and a dueling high dive that’ll make you yell “AAAARGH!”
URL:https://azstatefair.com/event/dueling-pirates-high-dive-2/2025-10-17/2/
CATEGORIES:Variety Entertainment
ATTACH;FMTTYPE=image/png:https://azstatefair.com/wp-content/uploads/2025/08/dueling-pirates.png
END:VEVENT
BEGIN:VEVENT
DTSTART;TZID=America/Phoenix:20251017T171500
DTEND;TZID=America/Phoenix:20251017T174500
DTSTAMP:20260425T213609
CREATED:20250904T045509Z
LAST-MODIFIED:20251024T043459Z
UID:10003001-1760721300-1760723100@azstatefair.com
SUMMARY:Barrel O' Fun
DESCRIPTION:This classic presentation of magic and comedy featuring Charlie & Delilah will have you amazed and rolling in laughter.
URL:https://azstatefair.com/event/barrel-o-fun/2025-10-17/2/
CATEGORIES:Variety Entertainment
ATTACH;FMTTYPE=image/png:https://azstatefair.com/wp-content/uploads/2024/08/Barrel-O-Fun-ft-img.png
END:VEVENT
END:VCALENDAR