BEGIN:VCALENDAR
VERSION:2.0
PRODID:-//AZ State Fair - ECPv6.15.14//NONSGML v1.0//EN
CALSCALE:GREGORIAN
METHOD:PUBLISH
X-ORIGINAL-URL:https://azstatefair.com
X-WR-CALDESC:Events for AZ State Fair
REFRESH-INTERVAL;VALUE=DURATION:PT1H
X-Robots-Tag:noindex
X-PUBLISHED-TTL:PT1H
BEGIN:VTIMEZONE
TZID:America/Phoenix
BEGIN:STANDARD
TZOFFSETFROM:-0700
TZOFFSETTO:-0700
TZNAME:MST
DTSTART:20240101T000000
END:STANDARD
END:VTIMEZONE
BEGIN:VEVENT
DTSTART;TZID=America/Phoenix:20251026T181500
DTEND;TZID=America/Phoenix:20251026T184500
DTSTAMP:20260422T013854
CREATED:20250904T230345Z
LAST-MODIFIED:20250904T230753Z
UID:10003407-1761502500-1761504300@azstatefair.com
SUMMARY:Dueling Pirates High Dive
DESCRIPTION:Thu-Sun | Oct 2-26\n2:00 – 2:30 pm\n5:00 – 5:30 pm\n6:15 – 6:45 pm\n8:15 – 8:45 pm \n The high seas come alive in the desert\, with two 90 ft high dive towers\, plank diving\, clown diving\, and a dueling high dive that’ll make you yell “AAAARGH!”
URL:https://azstatefair.com/event/dueling-pirates-high-dive-2/2025-10-26/3/
CATEGORIES:Variety Entertainment
ATTACH;FMTTYPE=image/png:https://azstatefair.com/wp-content/uploads/2025/08/dueling-pirates.png
END:VEVENT
BEGIN:VEVENT
DTSTART;TZID=America/Phoenix:20251026T181500
DTEND;TZID=America/Phoenix:20251026T184500
DTSTAMP:20260422T013854
CREATED:20251002T185132Z
LAST-MODIFIED:20251018T202537Z
UID:10003685-1761502500-1761504300@azstatefair.com
SUMMARY:Wheelie Fun Entertainment
DESCRIPTION:Roberto the Magnificent is one of the most entertaining and sought-after strolling acts in the country. His interactive display of different characters on a 6 foot unicycle is guaranteed to create smiles and laughter everywhere he goes. With over 10 different whacky personalities on his unicycle\, he likes to refer to his presentation as ‘Wheelie Fun Entertainment’.
URL:https://azstatefair.com/event/wheelie-fun-entertainment/2025-10-26/3/
CATEGORIES:Variety Entertainment
ATTACH;FMTTYPE=image/png:https://azstatefair.com/wp-content/uploads/2025/09/wheelie-fun.png
END:VEVENT
BEGIN:VEVENT
DTSTART;TZID=America/Phoenix:20251026T184500
DTEND;TZID=America/Phoenix:20251026T191500
DTSTAMP:20260422T013854
CREATED:20250903T050531Z
LAST-MODIFIED:20250903T050743Z
UID:10002842-1761504300-1761506100@azstatefair.com
SUMMARY:Squawk Talk
DESCRIPTION:Parrot keeper and behaviorist\, Nancy Riegler takes guests on a tour moving perch to perch through our little jungle-at-the-fair introducing eager onlookers to each of the birds giving each a chance to show off their own unique talents and stories. Educational and entertaining\, our colorful jungle clowns will teach you a thing or two about the Wonderful World of Parrots.
URL:https://azstatefair.com/event/squawk-talk/2025-10-26/2/
CATEGORIES:Variety Entertainment
ATTACH;FMTTYPE=image/jpeg:https://azstatefair.com/wp-content/uploads/2025/08/squawk-talk.jpg
END:VEVENT
BEGIN:VEVENT
DTSTART;TZID=America/Phoenix:20251026T190000
DTEND;TZID=America/Phoenix:20251026T193000
DTSTAMP:20260422T013854
CREATED:20250624T174735Z
LAST-MODIFIED:20250920T195148Z
UID:10003573-1761505200-1761507000@azstatefair.com
SUMMARY:Oasis Camel Dairy Show
DESCRIPTION:Camels can thrive without water for up to two weeks\, carry up to 600 pounds\, and produce 5-6 litres of milk per day. Come learn what’s in a camel’s hump and what to make with camel milk.
URL:https://azstatefair.com/event/oasis-camel-dairy-show/2025-10-26/3/
CATEGORIES:Animals
ATTACH;FMTTYPE=image/png:https://azstatefair.com/wp-content/uploads/2025/06/ft_oasis-camel-dairy.png
END:VEVENT
BEGIN:VEVENT
DTSTART;TZID=America/Phoenix:20251026T190000
DTEND;TZID=America/Phoenix:20251026T193000
DTSTAMP:20260422T013854
CREATED:20250904T043658Z
LAST-MODIFIED:20251017T192636Z
UID:10002995-1761505200-1761507000@azstatefair.com
SUMMARY:Skip Banks Balloon Man
DESCRIPTION:Widely known as the Balloon Man\, this new vaudevillian performer blends classic songs and sound effects with pop culture.
URL:https://azstatefair.com/event/skip-banks-balloon-man/2025-10-26/2/
CATEGORIES:Variety Entertainment
ATTACH;FMTTYPE=image/png:https://azstatefair.com/wp-content/uploads/2024/08/skip-banks-ft-img.png
END:VEVENT
BEGIN:VEVENT
DTSTART;TZID=America/Phoenix:20251026T190000
DTEND;TZID=America/Phoenix:20251026T203000
DTSTAMP:20260422T013854
CREATED:20251010T213716Z
LAST-MODIFIED:20251010T213716Z
UID:10003849-1761505200-1761510600@azstatefair.com
SUMMARY:Outside the Line
DESCRIPTION:Come see Outside the Line live at the Whiskey & Wine Stage!
URL:https://azstatefair.com/event/outside-the-line/2025-10-26/2/
ATTACH;FMTTYPE=image/jpeg:https://azstatefair.com/wp-content/uploads/2025/10/Outside-the-Line-pic-w-bg-scaled.jpg
END:VEVENT
BEGIN:VEVENT
DTSTART;TZID=America/Phoenix:20251026T191500
DTEND;TZID=America/Phoenix:20251026T194500
DTSTAMP:20260422T013854
CREATED:20250903T011336Z
LAST-MODIFIED:20251009T205743Z
UID:10002724-1761506100-1761507900@azstatefair.com
SUMMARY:Native Spirit
DESCRIPTION:Witness the beauty and grace of color and movement with beautiful and rhythmic sounds of the first nations. Learn about the original inhabitants of this land\, through world champion hoop dancers.
URL:https://azstatefair.com/event/native-spirit/2025-10-26/3/
CATEGORIES:Variety Entertainment
ATTACH;FMTTYPE=image/png:https://azstatefair.com/wp-content/uploads/2023/08/native-spirit-ft-img.png
END:VEVENT
BEGIN:VEVENT
DTSTART;TZID=America/Phoenix:20251026T193000
DTEND;TZID=America/Phoenix:20251026T200000
DTSTAMP:20260422T013854
CREATED:20250904T041407Z
LAST-MODIFIED:20250920T195604Z
UID:10002971-1761507000-1761508800@azstatefair.com
SUMMARY:The Incredible Tanzanian Acrobats
DESCRIPTION:As a testament to the spirit and resilience of the Tanzanian people\, these acrobats showcase the rich traditions\, culture and creativity of Dar es Salaam.
URL:https://azstatefair.com/event/the-incredible-tanzanian-acrobats/2025-10-26/2/
CATEGORIES:Variety Entertainment
ATTACH;FMTTYPE=image/jpeg:https://azstatefair.com/wp-content/uploads/2025/08/Tanza.jpg
END:VEVENT
BEGIN:VEVENT
DTSTART;TZID=America/Phoenix:20251026T200000
DTEND;TZID=America/Phoenix:20251026T203000
DTSTAMP:20260422T013854
CREATED:20250904T045509Z
LAST-MODIFIED:20251024T043459Z
UID:10003886-1761508800-1761510600@azstatefair.com
SUMMARY:Barrel O' Fun
DESCRIPTION:This classic presentation of magic and comedy featuring Charlie & Delilah will have you amazed and rolling in laughter.
URL:https://azstatefair.com/event/barrel-o-fun/2025-10-26/8/
CATEGORIES:Variety Entertainment
ATTACH;FMTTYPE=image/png:https://azstatefair.com/wp-content/uploads/2024/08/Barrel-O-Fun-ft-img.png
END:VEVENT
BEGIN:VEVENT
DTSTART;TZID=America/Phoenix:20251026T201500
DTEND;TZID=America/Phoenix:20251026T204500
DTSTAMP:20260422T013854
CREATED:20250903T050531Z
LAST-MODIFIED:20250903T050743Z
UID:10002843-1761509700-1761511500@azstatefair.com
SUMMARY:Squawk Talk
DESCRIPTION:Parrot keeper and behaviorist\, Nancy Riegler takes guests on a tour moving perch to perch through our little jungle-at-the-fair introducing eager onlookers to each of the birds giving each a chance to show off their own unique talents and stories. Educational and entertaining\, our colorful jungle clowns will teach you a thing or two about the Wonderful World of Parrots.
URL:https://azstatefair.com/event/squawk-talk/2025-10-26/3/
CATEGORIES:Variety Entertainment
ATTACH;FMTTYPE=image/jpeg:https://azstatefair.com/wp-content/uploads/2025/08/squawk-talk.jpg
END:VEVENT
BEGIN:VEVENT
DTSTART;TZID=America/Phoenix:20251026T201500
DTEND;TZID=America/Phoenix:20251026T204500
DTSTAMP:20260422T013854
CREATED:20250904T230345Z
LAST-MODIFIED:20250904T230753Z
UID:10003408-1761509700-1761511500@azstatefair.com
SUMMARY:Dueling Pirates High Dive
DESCRIPTION:Thu-Sun | Oct 2-26\n2:00 – 2:30 pm\n5:00 – 5:30 pm\n6:15 – 6:45 pm\n8:15 – 8:45 pm \n The high seas come alive in the desert\, with two 90 ft high dive towers\, plank diving\, clown diving\, and a dueling high dive that’ll make you yell “AAAARGH!”
URL:https://azstatefair.com/event/dueling-pirates-high-dive-2/2025-10-26/4/
CATEGORIES:Variety Entertainment
ATTACH;FMTTYPE=image/png:https://azstatefair.com/wp-content/uploads/2025/08/dueling-pirates.png
END:VEVENT
BEGIN:VEVENT
DTSTART;TZID=America/Phoenix:20251026T203000
DTEND;TZID=America/Phoenix:20251026T213000
DTSTAMP:20260422T013854
CREATED:20250730T223140Z
LAST-MODIFIED:20250915T213258Z
UID:10001728-1761510600-1761514200@azstatefair.com
SUMMARY:Green Today
DESCRIPTION:Have the time of your life with Green Today\, with the hooks and harmonies of Green Day.
URL:https://azstatefair.com/event/green-today/2025-10-26/5/
CATEGORIES:Tribute Bands
ATTACH;FMTTYPE=image/png:https://azstatefair.com/wp-content/uploads/2025/07/tribute-bands_green-today-scaled.png
END:VEVENT
BEGIN:VEVENT
DTSTART;TZID=America/Phoenix:20251026T204500
DTEND;TZID=America/Phoenix:20251026T211500
DTSTAMP:20260422T013854
CREATED:20250903T040455Z
LAST-MODIFIED:20250919T011025Z
UID:10002797-1761511500-1761513300@azstatefair.com
SUMMARY:Lessa Hoops
DESCRIPTION:Location\n10/9-10/12: Strolling\n10/16-10/19: Avenue Stage\n10/23-10/26:  Skyline Stage \nAn award winning hula hoop performer with mind bending flexibility that will leave you dazzled. Her 30 hoop “slinky” finale will leave your head spinning in amazement.
URL:https://azstatefair.com/event/lessa-hoops/2025-10-26/3/
CATEGORIES:Variety Entertainment
ATTACH;FMTTYPE=image/jpeg:https://azstatefair.com/wp-content/uploads/2025/08/lessa-hoops.jpg
END:VEVENT
BEGIN:VEVENT
DTSTART;TZID=America/Phoenix:20251026T204500
DTEND;TZID=America/Phoenix:20251026T211500
DTSTAMP:20260422T013854
CREATED:20251002T185132Z
LAST-MODIFIED:20251018T202537Z
UID:10003871-1761511500-1761513300@azstatefair.com
SUMMARY:Wheelie Fun Entertainment
DESCRIPTION:Roberto the Magnificent is one of the most entertaining and sought-after strolling acts in the country. His interactive display of different characters on a 6 foot unicycle is guaranteed to create smiles and laughter everywhere he goes. With over 10 different whacky personalities on his unicycle\, he likes to refer to his presentation as ‘Wheelie Fun Entertainment’.
URL:https://azstatefair.com/event/wheelie-fun-entertainment/2025-10-26/4/
CATEGORIES:Variety Entertainment
ATTACH;FMTTYPE=image/png:https://azstatefair.com/wp-content/uploads/2025/09/wheelie-fun.png
END:VEVENT
BEGIN:VEVENT
DTSTART;TZID=America/Phoenix:20251026T204500
DTEND;TZID=America/Phoenix:20251026T213000
DTSTAMP:20260422T013854
CREATED:20250904T052138Z
LAST-MODIFIED:20250913T184038Z
UID:10003063-1761511500-1761514200@azstatefair.com
SUMMARY:Comedy Hypnotist Tyzen
DESCRIPTION:Think you can’t be hypnotized? Think again. Described as “wickedly funny” and featured in L.A. Weekly\, this is a must see\, ever-changing\, crowd pleasing show.
URL:https://azstatefair.com/event/comedy-hypnotist-tyzen/2025-10-26/3/
CATEGORIES:Variety Entertainment
ATTACH;FMTTYPE=image/png:https://azstatefair.com/wp-content/uploads/2023/08/tyzen-blog-img.png
END:VEVENT
BEGIN:VEVENT
DTSTART;TZID=America/Phoenix:20251026T211500
DTEND;TZID=America/Phoenix:20251026T214500
DTSTAMP:20260422T013854
CREATED:20250904T041407Z
LAST-MODIFIED:20250920T195604Z
UID:10002972-1761513300-1761515100@azstatefair.com
SUMMARY:The Incredible Tanzanian Acrobats
DESCRIPTION:As a testament to the spirit and resilience of the Tanzanian people\, these acrobats showcase the rich traditions\, culture and creativity of Dar es Salaam.
URL:https://azstatefair.com/event/the-incredible-tanzanian-acrobats/2025-10-26/3/
CATEGORIES:Variety Entertainment
ATTACH;FMTTYPE=image/jpeg:https://azstatefair.com/wp-content/uploads/2025/08/Tanza.jpg
END:VEVENT
END:VCALENDAR