BEGIN:VCALENDAR
VERSION:2.0
PRODID:-//AZ State Fair - ECPv6.15.14//NONSGML v1.0//EN
CALSCALE:GREGORIAN
METHOD:PUBLISH
X-WR-CALNAME:AZ State Fair
X-ORIGINAL-URL:https://azstatefair.com
X-WR-CALDESC:Events for AZ State Fair
REFRESH-INTERVAL;VALUE=DURATION:PT1H
X-Robots-Tag:noindex
X-PUBLISHED-TTL:PT1H
BEGIN:VTIMEZONE
TZID:America/Phoenix
BEGIN:STANDARD
TZOFFSETFROM:-0700
TZOFFSETTO:-0700
TZNAME:MST
DTSTART:20240101T000000
END:STANDARD
END:VTIMEZONE
BEGIN:VEVENT
DTSTART;TZID=America/Phoenix:20251023T180000
DTEND;TZID=America/Phoenix:20251023T184500
DTSTAMP:20260419T190653
CREATED:20250904T052138Z
LAST-MODIFIED:20250913T184038Z
UID:10003056-1761242400-1761245100@azstatefair.com
SUMMARY:Comedy Hypnotist Tyzen
DESCRIPTION:Think you can’t be hypnotized? Think again. Described as “wickedly funny” and featured in L.A. Weekly\, this is a must see\, ever-changing\, crowd pleasing show.
URL:https://azstatefair.com/event/comedy-hypnotist-tyzen/2025-10-23/1/
CATEGORIES:Variety Entertainment
ATTACH;FMTTYPE=image/png:https://azstatefair.com/wp-content/uploads/2023/08/tyzen-blog-img.png
END:VEVENT
BEGIN:VEVENT
DTSTART;TZID=America/Phoenix:20251023T180000
DTEND;TZID=America/Phoenix:20251023T210000
DTSTAMP:20260419T190653
CREATED:20251003T222323Z
LAST-MODIFIED:20251003T222323Z
UID:10003799-1761242400-1761253200@azstatefair.com
SUMMARY:TB2
DESCRIPTION:Come see TB2 Live at the Hangout on Oct 23-24 and at the Coliseum Club Stage on Oct 25-26!
URL:https://azstatefair.com/event/tb2/2025-10-23/
ATTACH;FMTTYPE=image/jpeg:https://azstatefair.com/wp-content/uploads/2025/10/TB2-pic-w-bg-scaled.jpg
END:VEVENT
BEGIN:VEVENT
DTSTART;TZID=America/Phoenix:20251023T180000
DTEND;TZID=America/Phoenix:20251023T210000
DTSTAMP:20260419T190653
CREATED:20251010T213058Z
LAST-MODIFIED:20251010T213058Z
UID:10003840-1761242400-1761253200@azstatefair.com
SUMMARY:Rachelle Romeo
DESCRIPTION:Come and see Rachelle Romeo Live at the Carnival Stage!
URL:https://azstatefair.com/event/rachelle-romeo/2025-10-23/
ATTACH;FMTTYPE=image/jpeg:https://azstatefair.com/wp-content/uploads/2025/10/Rachelle-pic-and-bg-scaled.jpg
END:VEVENT
BEGIN:VEVENT
DTSTART;TZID=America/Phoenix:20251023T180000
DTEND;TZID=America/Phoenix:20251023T210000
DTSTAMP:20260419T190653
CREATED:20251010T213447Z
LAST-MODIFIED:20251010T213447Z
UID:10003844-1761242400-1761253200@azstatefair.com
SUMMARY:Duffy King
DESCRIPTION:Come see Duffy King live at the Coliseum Club Stage!
URL:https://azstatefair.com/event/duffy-king/2025-10-23/
ATTACH;FMTTYPE=image/jpeg:https://azstatefair.com/wp-content/uploads/2025/10/Duffy-King-pic-w-bg-scaled.jpg
END:VEVENT
BEGIN:VEVENT
DTSTART;TZID=America/Phoenix:20251023T180000
DTEND;TZID=America/Phoenix:20251023T210000
DTSTAMP:20260419T190653
CREATED:20251010T214912Z
LAST-MODIFIED:20251010T214912Z
UID:10003857-1761242400-1761253200@azstatefair.com
SUMMARY:TB2
DESCRIPTION:Location: \n10/23-10/24: The Hangout\n10/25-10/26: Coliseum Club Stage \nCome see TB2 live at the Arizona State Fair!
URL:https://azstatefair.com/event/tb2-2/2025-10-23/
ATTACH;FMTTYPE=image/jpeg:https://azstatefair.com/wp-content/uploads/2025/10/TB2-pic-w-bg-scaled.jpg
END:VEVENT
BEGIN:VEVENT
DTSTART;TZID=America/Phoenix:20251023T181500
DTEND;TZID=America/Phoenix:20251023T184500
DTSTAMP:20260419T190653
CREATED:20250904T230345Z
LAST-MODIFIED:20250904T230753Z
UID:10003395-1761243300-1761245100@azstatefair.com
SUMMARY:Dueling Pirates High Dive
DESCRIPTION:Thu-Sun | Oct 2-26\n2:00 – 2:30 pm\n5:00 – 5:30 pm\n6:15 – 6:45 pm\n8:15 – 8:45 pm \n The high seas come alive in the desert\, with two 90 ft high dive towers\, plank diving\, clown diving\, and a dueling high dive that’ll make you yell “AAAARGH!”
URL:https://azstatefair.com/event/dueling-pirates-high-dive-2/2025-10-23/3/
CATEGORIES:Variety Entertainment
ATTACH;FMTTYPE=image/png:https://azstatefair.com/wp-content/uploads/2025/08/dueling-pirates.png
END:VEVENT
BEGIN:VEVENT
DTSTART;TZID=America/Phoenix:20251023T181500
DTEND;TZID=America/Phoenix:20251023T184500
DTSTAMP:20260419T190653
CREATED:20251002T185132Z
LAST-MODIFIED:20251018T202537Z
UID:10003676-1761243300-1761245100@azstatefair.com
SUMMARY:Wheelie Fun Entertainment
DESCRIPTION:Roberto the Magnificent is one of the most entertaining and sought-after strolling acts in the country. His interactive display of different characters on a 6 foot unicycle is guaranteed to create smiles and laughter everywhere he goes. With over 10 different whacky personalities on his unicycle\, he likes to refer to his presentation as ‘Wheelie Fun Entertainment’.
URL:https://azstatefair.com/event/wheelie-fun-entertainment/2025-10-23/3/
CATEGORIES:Variety Entertainment
ATTACH;FMTTYPE=image/png:https://azstatefair.com/wp-content/uploads/2025/09/wheelie-fun.png
END:VEVENT
BEGIN:VEVENT
DTSTART;TZID=America/Phoenix:20251023T184500
DTEND;TZID=America/Phoenix:20251023T191500
DTSTAMP:20260419T190653
CREATED:20250903T050531Z
LAST-MODIFIED:20250903T050743Z
UID:10002833-1761245100-1761246900@azstatefair.com
SUMMARY:Squawk Talk
DESCRIPTION:Parrot keeper and behaviorist\, Nancy Riegler takes guests on a tour moving perch to perch through our little jungle-at-the-fair introducing eager onlookers to each of the birds giving each a chance to show off their own unique talents and stories. Educational and entertaining\, our colorful jungle clowns will teach you a thing or two about the Wonderful World of Parrots.
URL:https://azstatefair.com/event/squawk-talk/2025-10-23/2/
CATEGORIES:Variety Entertainment
ATTACH;FMTTYPE=image/jpeg:https://azstatefair.com/wp-content/uploads/2025/08/squawk-talk.jpg
END:VEVENT
BEGIN:VEVENT
DTSTART;TZID=America/Phoenix:20251023T190000
DTEND;TZID=America/Phoenix:20251023T193000
DTSTAMP:20260419T190653
CREATED:20250624T174735Z
LAST-MODIFIED:20250920T195148Z
UID:10003564-1761246000-1761247800@azstatefair.com
SUMMARY:Oasis Camel Dairy Show
DESCRIPTION:Camels can thrive without water for up to two weeks\, carry up to 600 pounds\, and produce 5-6 litres of milk per day. Come learn what’s in a camel’s hump and what to make with camel milk.
URL:https://azstatefair.com/event/oasis-camel-dairy-show/2025-10-23/3/
CATEGORIES:Animals
ATTACH;FMTTYPE=image/png:https://azstatefair.com/wp-content/uploads/2025/06/ft_oasis-camel-dairy.png
END:VEVENT
BEGIN:VEVENT
DTSTART;TZID=America/Phoenix:20251023T190000
DTEND;TZID=America/Phoenix:20251023T193000
DTSTAMP:20260419T190653
CREATED:20250904T043658Z
LAST-MODIFIED:20251017T192636Z
UID:10002986-1761246000-1761247800@azstatefair.com
SUMMARY:Skip Banks Balloon Man
DESCRIPTION:Widely known as the Balloon Man\, this new vaudevillian performer blends classic songs and sound effects with pop culture.
URL:https://azstatefair.com/event/skip-banks-balloon-man/2025-10-23/2/
CATEGORIES:Variety Entertainment
ATTACH;FMTTYPE=image/png:https://azstatefair.com/wp-content/uploads/2024/08/skip-banks-ft-img.png
END:VEVENT
BEGIN:VEVENT
DTSTART;TZID=America/Phoenix:20251023T190000
DTEND;TZID=America/Phoenix:20251023T203000
DTSTAMP:20260419T190653
CREATED:20251010T214310Z
LAST-MODIFIED:20251010T214609Z
UID:10003852-1761246000-1761251400@azstatefair.com
SUMMARY:Lacey Rashea
DESCRIPTION:Location: \n10/23-10/24: Whiskey & Wine Stage\n10/25-10/26: The Hangout \nCome see Lacey Rashea live at the Arizona State Fair!
URL:https://azstatefair.com/event/lacey-rashea/2025-10-23/2/
ATTACH;FMTTYPE=image/jpeg:https://azstatefair.com/wp-content/uploads/2025/10/Lacey-Rashea-pic-w-bg-scaled.jpg
END:VEVENT
BEGIN:VEVENT
DTSTART;TZID=America/Phoenix:20251023T193000
DTEND;TZID=America/Phoenix:20251023T200000
DTSTAMP:20260419T190653
CREATED:20250904T041407Z
LAST-MODIFIED:20250920T195604Z
UID:10002962-1761247800-1761249600@azstatefair.com
SUMMARY:The Incredible Tanzanian Acrobats
DESCRIPTION:As a testament to the spirit and resilience of the Tanzanian people\, these acrobats showcase the rich traditions\, culture and creativity of Dar es Salaam.
URL:https://azstatefair.com/event/the-incredible-tanzanian-acrobats/2025-10-23/2/
CATEGORIES:Variety Entertainment
ATTACH;FMTTYPE=image/jpeg:https://azstatefair.com/wp-content/uploads/2025/08/Tanza.jpg
END:VEVENT
BEGIN:VEVENT
DTSTART;TZID=America/Phoenix:20251023T194500
DTEND;TZID=America/Phoenix:20251023T201500
DTSTAMP:20260419T190653
CREATED:20250904T045509Z
LAST-MODIFIED:20251024T043459Z
UID:10003010-1761248700-1761250500@azstatefair.com
SUMMARY:Barrel O' Fun
DESCRIPTION:This classic presentation of magic and comedy featuring Charlie & Delilah will have you amazed and rolling in laughter.
URL:https://azstatefair.com/event/barrel-o-fun/2025-10-23/2/
CATEGORIES:Variety Entertainment
ATTACH;FMTTYPE=image/png:https://azstatefair.com/wp-content/uploads/2024/08/Barrel-O-Fun-ft-img.png
END:VEVENT
BEGIN:VEVENT
DTSTART;TZID=America/Phoenix:20251023T201500
DTEND;TZID=America/Phoenix:20251023T204500
DTSTAMP:20260419T190653
CREATED:20250903T050531Z
LAST-MODIFIED:20250903T050743Z
UID:10002834-1761250500-1761252300@azstatefair.com
SUMMARY:Squawk Talk
DESCRIPTION:Parrot keeper and behaviorist\, Nancy Riegler takes guests on a tour moving perch to perch through our little jungle-at-the-fair introducing eager onlookers to each of the birds giving each a chance to show off their own unique talents and stories. Educational and entertaining\, our colorful jungle clowns will teach you a thing or two about the Wonderful World of Parrots.
URL:https://azstatefair.com/event/squawk-talk/2025-10-23/3/
CATEGORIES:Variety Entertainment
ATTACH;FMTTYPE=image/jpeg:https://azstatefair.com/wp-content/uploads/2025/08/squawk-talk.jpg
END:VEVENT
BEGIN:VEVENT
DTSTART;TZID=America/Phoenix:20251023T201500
DTEND;TZID=America/Phoenix:20251023T204500
DTSTAMP:20260419T190653
CREATED:20250904T230345Z
LAST-MODIFIED:20250904T230753Z
UID:10003396-1761250500-1761252300@azstatefair.com
SUMMARY:Dueling Pirates High Dive
DESCRIPTION:Thu-Sun | Oct 2-26\n2:00 – 2:30 pm\n5:00 – 5:30 pm\n6:15 – 6:45 pm\n8:15 – 8:45 pm \n The high seas come alive in the desert\, with two 90 ft high dive towers\, plank diving\, clown diving\, and a dueling high dive that’ll make you yell “AAAARGH!”
URL:https://azstatefair.com/event/dueling-pirates-high-dive-2/2025-10-23/4/
CATEGORIES:Variety Entertainment
ATTACH;FMTTYPE=image/png:https://azstatefair.com/wp-content/uploads/2025/08/dueling-pirates.png
END:VEVENT
BEGIN:VEVENT
DTSTART;TZID=America/Phoenix:20251023T203000
DTEND;TZID=America/Phoenix:20251023T213000
DTSTAMP:20260419T190653
CREATED:20250730T223840Z
LAST-MODIFIED:20250915T213230Z
UID:10001722-1761251400-1761255000@azstatefair.com
SUMMARY:ABBA Fab
DESCRIPTION:Mamma Mia – here we go again! Grab your chiquitita\, and you can dance to the hits of ABBA with the nation’s top ABBA tribute bands. Feel the beat of the tambourine under the stars\, free with your Fair Admission.
URL:https://azstatefair.com/event/abba-fab/2025-10-23/4/
CATEGORIES:Tribute Bands
ATTACH;FMTTYPE=image/png:https://azstatefair.com/wp-content/uploads/2025/07/tribute-bands_abbafab-scaled.png
END:VEVENT
BEGIN:VEVENT
DTSTART;TZID=America/Phoenix:20251023T204500
DTEND;TZID=America/Phoenix:20251023T211500
DTSTAMP:20260419T190653
CREATED:20250903T040455Z
LAST-MODIFIED:20250919T011025Z
UID:10002788-1761252300-1761254100@azstatefair.com
SUMMARY:Lessa Hoops
DESCRIPTION:Location\n10/9-10/12: Strolling\n10/16-10/19: Avenue Stage\n10/23-10/26:  Skyline Stage \nAn award winning hula hoop performer with mind bending flexibility that will leave you dazzled. Her 30 hoop “slinky” finale will leave your head spinning in amazement.
URL:https://azstatefair.com/event/lessa-hoops/2025-10-23/3/
CATEGORIES:Variety Entertainment
ATTACH;FMTTYPE=image/jpeg:https://azstatefair.com/wp-content/uploads/2025/08/lessa-hoops.jpg
END:VEVENT
BEGIN:VEVENT
DTSTART;TZID=America/Phoenix:20251023T204500
DTEND;TZID=America/Phoenix:20251023T211500
DTSTAMP:20260419T190653
CREATED:20251002T185132Z
LAST-MODIFIED:20251018T202537Z
UID:10003868-1761252300-1761254100@azstatefair.com
SUMMARY:Wheelie Fun Entertainment
DESCRIPTION:Roberto the Magnificent is one of the most entertaining and sought-after strolling acts in the country. His interactive display of different characters on a 6 foot unicycle is guaranteed to create smiles and laughter everywhere he goes. With over 10 different whacky personalities on his unicycle\, he likes to refer to his presentation as ‘Wheelie Fun Entertainment’.
URL:https://azstatefair.com/event/wheelie-fun-entertainment/2025-10-23/4/
CATEGORIES:Variety Entertainment
ATTACH;FMTTYPE=image/png:https://azstatefair.com/wp-content/uploads/2025/09/wheelie-fun.png
END:VEVENT
BEGIN:VEVENT
DTSTART;TZID=America/Phoenix:20251023T204500
DTEND;TZID=America/Phoenix:20251023T213000
DTSTAMP:20260419T190653
CREATED:20250904T052138Z
LAST-MODIFIED:20250913T184038Z
UID:10003057-1761252300-1761255000@azstatefair.com
SUMMARY:Comedy Hypnotist Tyzen
DESCRIPTION:Think you can’t be hypnotized? Think again. Described as “wickedly funny” and featured in L.A. Weekly\, this is a must see\, ever-changing\, crowd pleasing show.
URL:https://azstatefair.com/event/comedy-hypnotist-tyzen/2025-10-23/3/
CATEGORIES:Variety Entertainment
ATTACH;FMTTYPE=image/png:https://azstatefair.com/wp-content/uploads/2023/08/tyzen-blog-img.png
END:VEVENT
BEGIN:VEVENT
DTSTART;TZID=America/Phoenix:20251023T211500
DTEND;TZID=America/Phoenix:20251023T214500
DTSTAMP:20260419T190653
CREATED:20250904T041407Z
LAST-MODIFIED:20250920T195604Z
UID:10002963-1761254100-1761255900@azstatefair.com
SUMMARY:The Incredible Tanzanian Acrobats
DESCRIPTION:As a testament to the spirit and resilience of the Tanzanian people\, these acrobats showcase the rich traditions\, culture and creativity of Dar es Salaam.
URL:https://azstatefair.com/event/the-incredible-tanzanian-acrobats/2025-10-23/3/
CATEGORIES:Variety Entertainment
ATTACH;FMTTYPE=image/jpeg:https://azstatefair.com/wp-content/uploads/2025/08/Tanza.jpg
END:VEVENT
BEGIN:VEVENT
DTSTART;TZID=America/Phoenix:20251024T120000
DTEND;TZID=America/Phoenix:20251024T180000
DTSTAMP:20260419T190653
CREATED:20250826T191931Z
LAST-MODIFIED:20251003T191006Z
UID:10002557-1761307200-1761328800@azstatefair.com
SUMMARY:Feel Good Fridays (Presented by Sanderson Ford)
DESCRIPTION:Give back and get rewarded! On Fridays in October (Oct 3\, 10\, 17\, 24)\, bring 7 canned food items between 12PM – 6PM and receive one free admission ticket. Presented by Sanderson Ford\, this promotion benefits St. Mary’s Food Bank\, helping families in need while you enjoy a day of Fair fun.
URL:https://azstatefair.com/event/feel-good-fridays-presented-by-sanderson-ford/2025-10-24/
CATEGORIES:Deals & Promotions
ATTACH;FMTTYPE=image/png:https://azstatefair.com/wp-content/uploads/2025/10/feel-good-fridays-updated.png
END:VEVENT
BEGIN:VEVENT
DTSTART;TZID=America/Phoenix:20251024T120000
DTEND;TZID=America/Phoenix:20251024T180000
DTSTAMP:20260419T190653
CREATED:20250826T194341Z
LAST-MODIFIED:20250915T204226Z
UID:10002565-1761307200-1761328800@azstatefair.com
SUMMARY:Food Flight Fridays
DESCRIPTION:VIEW FOOD FLIGHT MAP \nTaste your way through the Fair with Food Flight Fridays! Every vendor offers $5 tasting items from 12PM – 6PM on select Fridays (Oct 3\, 10\, 17\, 24). Upgrade with a Food Flight Pass and get 5 vouchers\, Fair admission\, and a souvenir lanyard – making it the ultimate foodie adventure.
URL:https://azstatefair.com/event/food-flight-fridays/2025-10-24/
CATEGORIES:Deals & Promotions
ATTACH;FMTTYPE=image/jpeg:https://azstatefair.com/wp-content/uploads/2025/08/food-flight-friday.jpg
END:VEVENT
BEGIN:VEVENT
DTSTART;TZID=America/Phoenix:20251024T120000
DTEND;TZID=America/Phoenix:20251024T210000
DTSTAMP:20260419T190653
CREATED:20250624T175036Z
LAST-MODIFIED:20250913T180816Z
UID:10000891-1761307200-1761339600@azstatefair.com
SUMMARY:Meat Goat Show
DESCRIPTION:Meat goats compete to be the G.O.A.T. during this one week showcase.
URL:https://azstatefair.com/event/meat-goat-show/2025-10-24/
CATEGORIES:Animals
ATTACH;FMTTYPE=image/png:https://azstatefair.com/wp-content/uploads/2025/06/ft_meat-goat.png
END:VEVENT
BEGIN:VEVENT
DTSTART;TZID=America/Phoenix:20251024T120000
DTEND;TZID=America/Phoenix:20251024T210000
DTSTAMP:20260419T190653
CREATED:20250625T193418Z
LAST-MODIFIED:20251005T000523Z
UID:10001423-1761307200-1761339600@azstatefair.com
SUMMARY:Kerr's Farm Tours Presented by AZ Milk Producers
DESCRIPTION:Experience Arizona’s agricultural roots at the State Fair! See adorable baby cows\, turkeys\, sheep\, goats\, and chicks up close in our engaging farm exhibit.
URL:https://azstatefair.com/event/kerrs-farm-tours-presented-by-az-milk-producers/2025-10-24/
LOCATION:Agriculture Center\, AZ\, United States
CATEGORIES:Animals
ATTACH;FMTTYPE=image/png:https://azstatefair.com/wp-content/uploads/2025/08/kerrs-farm-tours-pig.png
END:VEVENT
BEGIN:VEVENT
DTSTART;TZID=America/Phoenix:20251024T120000
DTEND;TZID=America/Phoenix:20251024T210000
DTSTAMP:20260419T190653
CREATED:20250625T194410Z
LAST-MODIFIED:20250926T235632Z
UID:10001459-1761307200-1761339600@azstatefair.com
SUMMARY:Arizona Ag Display
DESCRIPTION:Did you know Arizona produces enough beef to feed 8 million people? Come grow your Ag knowledge and learn fascinating facts about cattle\, sheep\, goats\, swine and more.
URL:https://azstatefair.com/event/arizona-ag-display/2025-10-24/
CATEGORIES:Animals
ATTACH;FMTTYPE=image/png:https://azstatefair.com/wp-content/uploads/2025/06/ft_ag-display.png
END:VEVENT
BEGIN:VEVENT
DTSTART;TZID=America/Phoenix:20251024T120000
DTEND;TZID=America/Phoenix:20251024T210000
DTSTAMP:20260419T190653
CREATED:20250625T195551Z
LAST-MODIFIED:20251005T000328Z
UID:10001677-1761307200-1761339600@azstatefair.com
SUMMARY:Great American Petting Zoo
DESCRIPTION:Get up close and personal with furry and fuzzy friends. Snap a selfie with a sheep. Free with your Fair Admission.
URL:https://azstatefair.com/event/great-american-petting-zoo/2025-10-24/
LOCATION:Agriculture Center\, AZ\, United States
CATEGORIES:Animals
ATTACH;FMTTYPE=image/png:https://azstatefair.com/wp-content/uploads/2025/06/ft_petting-zoo.png
END:VEVENT
BEGIN:VEVENT
DTSTART;TZID=America/Phoenix:20251024T120000
DTEND;TZID=America/Phoenix:20251024T210000
DTSTAMP:20260419T190653
CREATED:20250825T195651Z
LAST-MODIFIED:20251005T001308Z
UID:10001787-1761307200-1761339600@azstatefair.com
SUMMARY:Thunderbird Model Railroad
DESCRIPTION:To quote Thomas\,”Little engines CAN do big things!” Check out the Thunderbird Model Railroad Club underneath the Grandstand\, where nearly two thousand feet of miniature railroad track come to life.
URL:https://azstatefair.com/event/thunderbird-model-railroad/2025-10-24/
CATEGORIES:Attractions
ATTACH;FMTTYPE=image/png:https://azstatefair.com/wp-content/uploads/2025/08/Thunderbird-Model-Railroad.png
END:VEVENT
BEGIN:VEVENT
DTSTART;TZID=America/Phoenix:20251024T120000
DTEND;TZID=America/Phoenix:20251024T210000
DTSTAMP:20260419T190653
CREATED:20250826T020338Z
LAST-MODIFIED:20250827T002915Z
UID:10002375-1761307200-1761339600@azstatefair.com
SUMMARY:Paradise Perch Bird Display
DESCRIPTION:Macaws\, sulphur crested cockatoo\, sun conures\, Amazon parrots and a flock of love birds await you. Relax in the shade with a cool drink and feathery friends.
URL:https://azstatefair.com/event/paradise-perch-bird-display/2025-10-24/
CATEGORIES:Animals,Attractions
ATTACH;FMTTYPE=image/png:https://azstatefair.com/wp-content/uploads/2025/08/web_paradise-perch.png
END:VEVENT
BEGIN:VEVENT
DTSTART;TZID=America/Phoenix:20251024T120000
DTEND;TZID=America/Phoenix:20251024T210000
DTSTAMP:20260419T190653
CREATED:20250826T021450Z
LAST-MODIFIED:20250926T235526Z
UID:10002398-1761307200-1761339600@azstatefair.com
SUMMARY:Arts and Craft Demonstrations
DESCRIPTION:Located in North & South Hall in the Veterans Memorial Coliseum\nGrow your happiness and celebrate creativity in action. Discover the passion of local makers with quilting\, woodworking\, goat milk soap making\, paper crafts\, diamond art\, and Native American art. \nArt and Demonstrations Include: \n\nBrian Chest – Anime Art\nKevin Sekakuku – Native American Carver\nEldrid Matt – Native American Jewelry Artist\nLyn Tanaguwana – Hopi Basket Weaver\nCaila Tanaguwana – Hopi Artist\nLinda David – Wood Artist
URL:https://azstatefair.com/event/arts-and-craft-demonstrations/2025-10-24/
CATEGORIES:Exhibit
ATTACH;FMTTYPE=image/png:https://azstatefair.com/wp-content/uploads/2025/08/web_-Arts-and-Craft-Demos.png
END:VEVENT
BEGIN:VEVENT
DTSTART;TZID=America/Phoenix:20251024T120000
DTEND;TZID=America/Phoenix:20251024T210000
DTSTAMP:20260419T190653
CREATED:20250826T022640Z
LAST-MODIFIED:20250926T235507Z
UID:10002421-1761307200-1761339600@azstatefair.com
SUMMARY:Fine Arts and Photography
DESCRIPTION:Location\nSeptember: Lower Concourse of the Veterans Memorial Coliseum.\nOctober: South Hall of the Coliseum.\nFrom breathtaking landscapes and striking portraits to vibrant paintings and imaginative works of art\, inspiration abounds in our galleries. Support local talent\, and take home a masterpiece of your own.
URL:https://azstatefair.com/event/fine-arts-and-photography/2025-10-24/
CATEGORIES:Competitive Entries
ATTACH;FMTTYPE=image/png:https://azstatefair.com/wp-content/uploads/2025/08/web_-Fine-Arts-and-Photography.png
END:VEVENT
END:VCALENDAR