BEGIN:VCALENDAR
VERSION:2.0
PRODID:-//AZ State Fair - ECPv6.15.14//NONSGML v1.0//EN
CALSCALE:GREGORIAN
METHOD:PUBLISH
X-ORIGINAL-URL:https://azstatefair.com
X-WR-CALDESC:Events for AZ State Fair
REFRESH-INTERVAL;VALUE=DURATION:PT1H
X-Robots-Tag:noindex
X-PUBLISHED-TTL:PT1H
BEGIN:VTIMEZONE
TZID:America/Phoenix
BEGIN:STANDARD
TZOFFSETFROM:-0700
TZOFFSETTO:-0700
TZNAME:MST
DTSTART:20240101T000000
END:STANDARD
END:VTIMEZONE
BEGIN:VEVENT
DTSTART;TZID=America/Phoenix:20251016T180000
DTEND;TZID=America/Phoenix:20251016T210000
DTSTAMP:20260419T111040
CREATED:20251003T215721Z
LAST-MODIFIED:20251003T215721Z
UID:10003779-1760637600-1760648400@azstatefair.com
SUMMARY:Cody Mitchael
DESCRIPTION:Come see Cody Mitchael Live at the Carnival Stage!
URL:https://azstatefair.com/event/cody-mitchael/2025-10-16/
ATTACH;FMTTYPE=image/jpeg:https://azstatefair.com/wp-content/uploads/2025/10/Cody-Mitchael-pic-w-bg-scaled.jpg
END:VEVENT
BEGIN:VEVENT
DTSTART;TZID=America/Phoenix:20251016T180000
DTEND;TZID=America/Phoenix:20251016T210000
DTSTAMP:20260419T111040
CREATED:20251003T215805Z
LAST-MODIFIED:20251015T221306Z
UID:10003787-1760637600-1760648400@azstatefair.com
SUMMARY:Kristi Dee
DESCRIPTION:Come see Kristi Dee Live at the Coliseum Club!
URL:https://azstatefair.com/event/melanie/2025-10-16/
ATTACH;FMTTYPE=image/png:https://azstatefair.com/wp-content/uploads/2025/10/kristi-dee.png
END:VEVENT
BEGIN:VEVENT
DTSTART;TZID=America/Phoenix:20251016T181500
DTEND;TZID=America/Phoenix:20251016T184500
DTSTAMP:20260419T111040
CREATED:20250904T031603Z
LAST-MODIFIED:20250913T194631Z
UID:10002891-1760638500-1760640300@azstatefair.com
SUMMARY:Salsa Steel Drum Band
DESCRIPTION:Spreading the joy of steel pan drum music across the nation\, including Latin\, Jazz\, Reggae\, Oldies\, kids songs\, Jimmy Buffett/Bob Marley\, this popular steel drum band plays it all.
URL:https://azstatefair.com/event/salsa-steel-drum-band/2025-10-16/3/
CATEGORIES:Variety Entertainment
ATTACH;FMTTYPE=image/jpeg:https://azstatefair.com/wp-content/uploads/2023/08/Salsa-Steel-Drum-Band-1.jpg
END:VEVENT
BEGIN:VEVENT
DTSTART;TZID=America/Phoenix:20251016T181500
DTEND;TZID=America/Phoenix:20251016T184500
DTSTAMP:20260419T111040
CREATED:20250904T230345Z
LAST-MODIFIED:20250904T230753Z
UID:10003379-1760638500-1760640300@azstatefair.com
SUMMARY:Dueling Pirates High Dive
DESCRIPTION:Thu-Sun | Oct 2-26\n2:00 – 2:30 pm\n5:00 – 5:30 pm\n6:15 – 6:45 pm\n8:15 – 8:45 pm \n The high seas come alive in the desert\, with two 90 ft high dive towers\, plank diving\, clown diving\, and a dueling high dive that’ll make you yell “AAAARGH!”
URL:https://azstatefair.com/event/dueling-pirates-high-dive-2/2025-10-16/3/
CATEGORIES:Variety Entertainment
ATTACH;FMTTYPE=image/png:https://azstatefair.com/wp-content/uploads/2025/08/dueling-pirates.png
END:VEVENT
BEGIN:VEVENT
DTSTART;TZID=America/Phoenix:20251016T181500
DTEND;TZID=America/Phoenix:20251016T184500
DTSTAMP:20260419T111040
CREATED:20251002T185132Z
LAST-MODIFIED:20251018T202537Z
UID:10003664-1760638500-1760640300@azstatefair.com
SUMMARY:Wheelie Fun Entertainment
DESCRIPTION:Roberto the Magnificent is one of the most entertaining and sought-after strolling acts in the country. His interactive display of different characters on a 6 foot unicycle is guaranteed to create smiles and laughter everywhere he goes. With over 10 different whacky personalities on his unicycle\, he likes to refer to his presentation as ‘Wheelie Fun Entertainment’.
URL:https://azstatefair.com/event/wheelie-fun-entertainment/2025-10-16/3/
CATEGORIES:Variety Entertainment
ATTACH;FMTTYPE=image/png:https://azstatefair.com/wp-content/uploads/2025/09/wheelie-fun.png
END:VEVENT
BEGIN:VEVENT
DTSTART;TZID=America/Phoenix:20251016T184500
DTEND;TZID=America/Phoenix:20251016T191500
DTSTAMP:20260419T111040
CREATED:20250903T050531Z
LAST-MODIFIED:20250903T050743Z
UID:10002821-1760640300-1760642100@azstatefair.com
SUMMARY:Squawk Talk
DESCRIPTION:Parrot keeper and behaviorist\, Nancy Riegler takes guests on a tour moving perch to perch through our little jungle-at-the-fair introducing eager onlookers to each of the birds giving each a chance to show off their own unique talents and stories. Educational and entertaining\, our colorful jungle clowns will teach you a thing or two about the Wonderful World of Parrots.
URL:https://azstatefair.com/event/squawk-talk/2025-10-16/2/
CATEGORIES:Variety Entertainment
ATTACH;FMTTYPE=image/jpeg:https://azstatefair.com/wp-content/uploads/2025/08/squawk-talk.jpg
END:VEVENT
BEGIN:VEVENT
DTSTART;TZID=America/Phoenix:20251016T190000
DTEND;TZID=America/Phoenix:20251016T193000
DTSTAMP:20260419T111040
CREATED:20250624T174735Z
LAST-MODIFIED:20250920T195148Z
UID:10003448-1760641200-1760643000@azstatefair.com
SUMMARY:Oasis Camel Dairy Show
DESCRIPTION:Camels can thrive without water for up to two weeks\, carry up to 600 pounds\, and produce 5-6 litres of milk per day. Come learn what’s in a camel’s hump and what to make with camel milk.
URL:https://azstatefair.com/event/oasis-camel-dairy-show/2025-10-16/3/
CATEGORIES:Animals
ATTACH;FMTTYPE=image/png:https://azstatefair.com/wp-content/uploads/2025/06/ft_oasis-camel-dairy.png
END:VEVENT
BEGIN:VEVENT
DTSTART;TZID=America/Phoenix:20251016T190000
DTEND;TZID=America/Phoenix:20251016T203000
DTSTAMP:20260419T111040
CREATED:20251003T215658Z
LAST-MODIFIED:20251003T220132Z
UID:10003792-1760641200-1760646600@azstatefair.com
SUMMARY:Lucas Brown
DESCRIPTION:Come see Lucas Brown Live at the Whiskey & Wine Stage!
URL:https://azstatefair.com/event/lucas-brown/2025-10-16/2/
ATTACH;FMTTYPE=image/jpeg:https://azstatefair.com/wp-content/uploads/2025/10/Lucas-Brown-pic-w-bg-scaled.jpg
END:VEVENT
BEGIN:VEVENT
DTSTART;TZID=America/Phoenix:20251016T191500
DTEND;TZID=America/Phoenix:20251016T194500
DTSTAMP:20260419T111040
CREATED:20250903T011336Z
LAST-MODIFIED:20251009T205743Z
UID:10002703-1760642100-1760643900@azstatefair.com
SUMMARY:Native Spirit
DESCRIPTION:Witness the beauty and grace of color and movement with beautiful and rhythmic sounds of the first nations. Learn about the original inhabitants of this land\, through world champion hoop dancers.
URL:https://azstatefair.com/event/native-spirit/2025-10-16/3/
CATEGORIES:Variety Entertainment
ATTACH;FMTTYPE=image/png:https://azstatefair.com/wp-content/uploads/2023/08/native-spirit-ft-img.png
END:VEVENT
BEGIN:VEVENT
DTSTART;TZID=America/Phoenix:20251016T193000
DTEND;TZID=America/Phoenix:20251016T200000
DTSTAMP:20260419T111040
CREATED:20250904T041407Z
LAST-MODIFIED:20250920T195604Z
UID:10002950-1760643000-1760644800@azstatefair.com
SUMMARY:The Incredible Tanzanian Acrobats
DESCRIPTION:As a testament to the spirit and resilience of the Tanzanian people\, these acrobats showcase the rich traditions\, culture and creativity of Dar es Salaam.
URL:https://azstatefair.com/event/the-incredible-tanzanian-acrobats/2025-10-16/2/
CATEGORIES:Variety Entertainment
ATTACH;FMTTYPE=image/jpeg:https://azstatefair.com/wp-content/uploads/2025/08/Tanza.jpg
END:VEVENT
BEGIN:VEVENT
DTSTART;TZID=America/Phoenix:20251016T194500
DTEND;TZID=America/Phoenix:20251016T201500
DTSTAMP:20260419T111040
CREATED:20250904T045509Z
LAST-MODIFIED:20251024T043459Z
UID:10002999-1760643900-1760645700@azstatefair.com
SUMMARY:Barrel O' Fun
DESCRIPTION:This classic presentation of magic and comedy featuring Charlie & Delilah will have you amazed and rolling in laughter.
URL:https://azstatefair.com/event/barrel-o-fun/2025-10-16/3/
CATEGORIES:Variety Entertainment
ATTACH;FMTTYPE=image/png:https://azstatefair.com/wp-content/uploads/2024/08/Barrel-O-Fun-ft-img.png
END:VEVENT
BEGIN:VEVENT
DTSTART;TZID=America/Phoenix:20251016T201500
DTEND;TZID=America/Phoenix:20251016T204500
DTSTAMP:20260419T111040
CREATED:20250903T050531Z
LAST-MODIFIED:20250903T050743Z
UID:10002822-1760645700-1760647500@azstatefair.com
SUMMARY:Squawk Talk
DESCRIPTION:Parrot keeper and behaviorist\, Nancy Riegler takes guests on a tour moving perch to perch through our little jungle-at-the-fair introducing eager onlookers to each of the birds giving each a chance to show off their own unique talents and stories. Educational and entertaining\, our colorful jungle clowns will teach you a thing or two about the Wonderful World of Parrots.
URL:https://azstatefair.com/event/squawk-talk/2025-10-16/3/
CATEGORIES:Variety Entertainment
ATTACH;FMTTYPE=image/jpeg:https://azstatefair.com/wp-content/uploads/2025/08/squawk-talk.jpg
END:VEVENT
BEGIN:VEVENT
DTSTART;TZID=America/Phoenix:20251016T201500
DTEND;TZID=America/Phoenix:20251016T204500
DTSTAMP:20260419T111040
CREATED:20250904T230345Z
LAST-MODIFIED:20250904T230753Z
UID:10003380-1760645700-1760647500@azstatefair.com
SUMMARY:Dueling Pirates High Dive
DESCRIPTION:Thu-Sun | Oct 2-26\n2:00 – 2:30 pm\n5:00 – 5:30 pm\n6:15 – 6:45 pm\n8:15 – 8:45 pm \n The high seas come alive in the desert\, with two 90 ft high dive towers\, plank diving\, clown diving\, and a dueling high dive that’ll make you yell “AAAARGH!”
URL:https://azstatefair.com/event/dueling-pirates-high-dive-2/2025-10-16/4/
CATEGORIES:Variety Entertainment
ATTACH;FMTTYPE=image/png:https://azstatefair.com/wp-content/uploads/2025/08/dueling-pirates.png
END:VEVENT
BEGIN:VEVENT
DTSTART;TZID=America/Phoenix:20251016T203000
DTEND;TZID=America/Phoenix:20251016T213000
DTSTAMP:20260419T111040
CREATED:20250730T224450Z
LAST-MODIFIED:20250915T213146Z
UID:10001714-1760646600-1760650200@azstatefair.com
SUMMARY:Led Zepagain
DESCRIPTION:Wanna whole lotta love? Come let the sun beat down on your face and relive the soundtrack that defined an era.
URL:https://azstatefair.com/event/led-zepagain/2025-10-16/4/
CATEGORIES:Tribute Bands
ATTACH;FMTTYPE=image/png:https://azstatefair.com/wp-content/uploads/2025/07/tribute-bands_led-zepagain-scaled.png
END:VEVENT
BEGIN:VEVENT
DTSTART;TZID=America/Phoenix:20251016T204500
DTEND;TZID=America/Phoenix:20251016T211500
DTSTAMP:20260419T111040
CREATED:20250903T034111Z
LAST-MODIFIED:20250924T163149Z
UID:10002738-1760647500-1760649300@azstatefair.com
SUMMARY:Circus Luminesence
DESCRIPTION:Location: \n10/2-10/5: Avenue Stage\n10/9-10/12: Strolling\n10/16-19/19: Skyline Stage\n10/23-10/26: Avenue Stage \nAward-winning juggling duo specializing in energetic vaudeville performances that include partner juggling\, futuristic electric unicycles and luminescent laughter.
URL:https://azstatefair.com/event/circus-luminesence/2025-10-16/3/
CATEGORIES:Variety Entertainment
ATTACH;FMTTYPE=image/png:https://azstatefair.com/wp-content/uploads/2025/08/circus-luminescence.png
END:VEVENT
BEGIN:VEVENT
DTSTART;TZID=America/Phoenix:20251016T204500
DTEND;TZID=America/Phoenix:20251016T213000
DTSTAMP:20260419T111040
CREATED:20250904T052138Z
LAST-MODIFIED:20250913T184038Z
UID:10003050-1760647500-1760650200@azstatefair.com
SUMMARY:Comedy Hypnotist Tyzen
DESCRIPTION:Think you can’t be hypnotized? Think again. Described as “wickedly funny” and featured in L.A. Weekly\, this is a must see\, ever-changing\, crowd pleasing show.
URL:https://azstatefair.com/event/comedy-hypnotist-tyzen/2025-10-16/3/
CATEGORIES:Variety Entertainment
ATTACH;FMTTYPE=image/png:https://azstatefair.com/wp-content/uploads/2023/08/tyzen-blog-img.png
END:VEVENT
BEGIN:VEVENT
DTSTART;TZID=America/Phoenix:20251016T211500
DTEND;TZID=America/Phoenix:20251016T214500
DTSTAMP:20260419T111040
CREATED:20250904T041407Z
LAST-MODIFIED:20250920T195604Z
UID:10002951-1760649300-1760651100@azstatefair.com
SUMMARY:The Incredible Tanzanian Acrobats
DESCRIPTION:As a testament to the spirit and resilience of the Tanzanian people\, these acrobats showcase the rich traditions\, culture and creativity of Dar es Salaam.
URL:https://azstatefair.com/event/the-incredible-tanzanian-acrobats/2025-10-16/3/
CATEGORIES:Variety Entertainment
ATTACH;FMTTYPE=image/jpeg:https://azstatefair.com/wp-content/uploads/2025/08/Tanza.jpg
END:VEVENT
BEGIN:VEVENT
DTSTART;TZID=America/Phoenix:20251017T120000
DTEND;TZID=America/Phoenix:20251017T180000
DTSTAMP:20260419T111040
CREATED:20250826T015525Z
LAST-MODIFIED:20250826T015525Z
UID:10002361-1760702400-1760724000@azstatefair.com
SUMMARY:Armed Forces Day Presented by USAA
DESCRIPTION:Armed Forces Day presented by USAA \nWe’re honored to stand alongside those who serve our nation. As a token of our gratitude\, USAA is proud to offer FREE admission to all active duty and veteran military personnel on Friday\, October 17\, 2025\, to enjoy this year’s Arizona State Fair. Bring your family and friends to enjoy a day of community\, connection\, and celebration. \n“At USAA\, our mission is to serve military members and their families with the same commitment you’ve shown our country – through trusted advice\, exceptional service\, and unwavering support. Thank you for allowing us to be part of your journey.” \nThank you to USAA – Serving Those Who Serve. \n🎖️ Use password USAAFAIR to access your ticket.\n🎟️ Limit 4 tickets per person.\n🪖 Military ID required when redeeming tickets. \nTicket valid only on Friday\, October 17\, 2025\, from 12 PM to 6 PM. \nThank you for your service. We look forward to celebrating with you and to Grow Happiness at this year’s Arizona State Fair.
URL:https://azstatefair.com/event/armed-forces-day-presented-by-usaa/
CATEGORIES:Deals & Promotions
ATTACH;FMTTYPE=image/png:https://azstatefair.com/wp-content/uploads/2024/08/armed-forces-ft-img.png
END:VEVENT
BEGIN:VEVENT
DTSTART;TZID=America/Phoenix:20251017T120000
DTEND;TZID=America/Phoenix:20251017T180000
DTSTAMP:20260419T111040
CREATED:20250826T191931Z
LAST-MODIFIED:20251003T191006Z
UID:10002556-1760702400-1760724000@azstatefair.com
SUMMARY:Feel Good Fridays (Presented by Sanderson Ford)
DESCRIPTION:Give back and get rewarded! On Fridays in October (Oct 3\, 10\, 17\, 24)\, bring 7 canned food items between 12PM – 6PM and receive one free admission ticket. Presented by Sanderson Ford\, this promotion benefits St. Mary’s Food Bank\, helping families in need while you enjoy a day of Fair fun.
URL:https://azstatefair.com/event/feel-good-fridays-presented-by-sanderson-ford/2025-10-17/
CATEGORIES:Deals & Promotions
ATTACH;FMTTYPE=image/png:https://azstatefair.com/wp-content/uploads/2025/10/feel-good-fridays-updated.png
END:VEVENT
BEGIN:VEVENT
DTSTART;TZID=America/Phoenix:20251017T120000
DTEND;TZID=America/Phoenix:20251017T180000
DTSTAMP:20260419T111040
CREATED:20250826T194341Z
LAST-MODIFIED:20250915T204226Z
UID:10002564-1760702400-1760724000@azstatefair.com
SUMMARY:Food Flight Fridays
DESCRIPTION:VIEW FOOD FLIGHT MAP \nTaste your way through the Fair with Food Flight Fridays! Every vendor offers $5 tasting items from 12PM – 6PM on select Fridays (Oct 3\, 10\, 17\, 24). Upgrade with a Food Flight Pass and get 5 vouchers\, Fair admission\, and a souvenir lanyard – making it the ultimate foodie adventure.
URL:https://azstatefair.com/event/food-flight-fridays/2025-10-17/
CATEGORIES:Deals & Promotions
ATTACH;FMTTYPE=image/jpeg:https://azstatefair.com/wp-content/uploads/2025/08/food-flight-friday.jpg
END:VEVENT
BEGIN:VEVENT
DTSTART;TZID=America/Phoenix:20251017T120000
DTEND;TZID=America/Phoenix:20251017T210000
DTSTAMP:20260419T111040
CREATED:20250624T171313Z
LAST-MODIFIED:20250913T180250Z
UID:10000509-1760702400-1760734800@azstatefair.com
SUMMARY:Sheep Show
DESCRIPTION:See stunning sheep such as Karakuls\, Oxfords\, Suffolks\, Hampshires\, and more as they compete for Grand Champion.Grow your happiness while learning about wool production.
URL:https://azstatefair.com/event/sheep-show/2025-10-17/
CATEGORIES:Animals
ATTACH;FMTTYPE=image/png:https://azstatefair.com/wp-content/uploads/2025/06/ft_sheep-show-1.png
END:VEVENT
BEGIN:VEVENT
DTSTART;TZID=America/Phoenix:20251017T120000
DTEND;TZID=America/Phoenix:20251017T210000
DTSTAMP:20260419T111040
CREATED:20250625T193418Z
LAST-MODIFIED:20251005T000523Z
UID:10001419-1760702400-1760734800@azstatefair.com
SUMMARY:Kerr's Farm Tours Presented by AZ Milk Producers
DESCRIPTION:Experience Arizona’s agricultural roots at the State Fair! See adorable baby cows\, turkeys\, sheep\, goats\, and chicks up close in our engaging farm exhibit.
URL:https://azstatefair.com/event/kerrs-farm-tours-presented-by-az-milk-producers/2025-10-17/
LOCATION:Agriculture Center\, AZ\, United States
CATEGORIES:Animals
ATTACH;FMTTYPE=image/png:https://azstatefair.com/wp-content/uploads/2025/08/kerrs-farm-tours-pig.png
END:VEVENT
BEGIN:VEVENT
DTSTART;TZID=America/Phoenix:20251017T120000
DTEND;TZID=America/Phoenix:20251017T210000
DTSTAMP:20260419T111040
CREATED:20250625T194410Z
LAST-MODIFIED:20250926T235632Z
UID:10001451-1760702400-1760734800@azstatefair.com
SUMMARY:Arizona Ag Display
DESCRIPTION:Did you know Arizona produces enough beef to feed 8 million people? Come grow your Ag knowledge and learn fascinating facts about cattle\, sheep\, goats\, swine and more.
URL:https://azstatefair.com/event/arizona-ag-display/2025-10-17/
CATEGORIES:Animals
ATTACH;FMTTYPE=image/png:https://azstatefair.com/wp-content/uploads/2025/06/ft_ag-display.png
END:VEVENT
BEGIN:VEVENT
DTSTART;TZID=America/Phoenix:20251017T120000
DTEND;TZID=America/Phoenix:20251017T210000
DTSTAMP:20260419T111040
CREATED:20250625T195551Z
LAST-MODIFIED:20251005T000328Z
UID:10001673-1760702400-1760734800@azstatefair.com
SUMMARY:Great American Petting Zoo
DESCRIPTION:Get up close and personal with furry and fuzzy friends. Snap a selfie with a sheep. Free with your Fair Admission.
URL:https://azstatefair.com/event/great-american-petting-zoo/2025-10-17/
LOCATION:Agriculture Center\, AZ\, United States
CATEGORIES:Animals
ATTACH;FMTTYPE=image/png:https://azstatefair.com/wp-content/uploads/2025/06/ft_petting-zoo.png
END:VEVENT
BEGIN:VEVENT
DTSTART;TZID=America/Phoenix:20251017T120000
DTEND;TZID=America/Phoenix:20251017T210000
DTSTAMP:20260419T111040
CREATED:20250825T195651Z
LAST-MODIFIED:20251005T001308Z
UID:10001776-1760702400-1760734800@azstatefair.com
SUMMARY:Thunderbird Model Railroad
DESCRIPTION:To quote Thomas\,”Little engines CAN do big things!” Check out the Thunderbird Model Railroad Club underneath the Grandstand\, where nearly two thousand feet of miniature railroad track come to life.
URL:https://azstatefair.com/event/thunderbird-model-railroad/2025-10-17/
CATEGORIES:Attractions
ATTACH;FMTTYPE=image/png:https://azstatefair.com/wp-content/uploads/2025/08/Thunderbird-Model-Railroad.png
END:VEVENT
BEGIN:VEVENT
DTSTART;TZID=America/Phoenix:20251017T120000
DTEND;TZID=America/Phoenix:20251017T210000
DTSTAMP:20260419T111040
CREATED:20250826T020338Z
LAST-MODIFIED:20250827T002915Z
UID:10002371-1760702400-1760734800@azstatefair.com
SUMMARY:Paradise Perch Bird Display
DESCRIPTION:Macaws\, sulphur crested cockatoo\, sun conures\, Amazon parrots and a flock of love birds await you. Relax in the shade with a cool drink and feathery friends.
URL:https://azstatefair.com/event/paradise-perch-bird-display/2025-10-17/
CATEGORIES:Animals,Attractions
ATTACH;FMTTYPE=image/png:https://azstatefair.com/wp-content/uploads/2025/08/web_paradise-perch.png
END:VEVENT
BEGIN:VEVENT
DTSTART;TZID=America/Phoenix:20251017T120000
DTEND;TZID=America/Phoenix:20251017T210000
DTSTAMP:20260419T111040
CREATED:20250826T021450Z
LAST-MODIFIED:20250926T235526Z
UID:10002394-1760702400-1760734800@azstatefair.com
SUMMARY:Arts and Craft Demonstrations
DESCRIPTION:Located in North & South Hall in the Veterans Memorial Coliseum\nGrow your happiness and celebrate creativity in action. Discover the passion of local makers with quilting\, woodworking\, goat milk soap making\, paper crafts\, diamond art\, and Native American art. \nArt and Demonstrations Include: \n\nBrian Chest – Anime Art\nKevin Sekakuku – Native American Carver\nEldrid Matt – Native American Jewelry Artist\nLyn Tanaguwana – Hopi Basket Weaver\nCaila Tanaguwana – Hopi Artist\nLinda David – Wood Artist
URL:https://azstatefair.com/event/arts-and-craft-demonstrations/2025-10-17/
CATEGORIES:Exhibit
ATTACH;FMTTYPE=image/png:https://azstatefair.com/wp-content/uploads/2025/08/web_-Arts-and-Craft-Demos.png
END:VEVENT
BEGIN:VEVENT
DTSTART;TZID=America/Phoenix:20251017T120000
DTEND;TZID=America/Phoenix:20251017T210000
DTSTAMP:20260419T111040
CREATED:20250826T022640Z
LAST-MODIFIED:20250926T235507Z
UID:10002417-1760702400-1760734800@azstatefair.com
SUMMARY:Fine Arts and Photography
DESCRIPTION:Location\nSeptember: Lower Concourse of the Veterans Memorial Coliseum.\nOctober: South Hall of the Coliseum.\nFrom breathtaking landscapes and striking portraits to vibrant paintings and imaginative works of art\, inspiration abounds in our galleries. Support local talent\, and take home a masterpiece of your own.
URL:https://azstatefair.com/event/fine-arts-and-photography/2025-10-17/
CATEGORIES:Competitive Entries
ATTACH;FMTTYPE=image/png:https://azstatefair.com/wp-content/uploads/2025/08/web_-Fine-Arts-and-Photography.png
END:VEVENT
BEGIN:VEVENT
DTSTART;TZID=America/Phoenix:20251017T120000
DTEND;TZID=America/Phoenix:20251017T210000
DTSTAMP:20260419T111040
CREATED:20250826T023723Z
LAST-MODIFIED:20250926T235447Z
UID:10002440-1760702400-1760734800@azstatefair.com
SUMMARY:Home\, Youth and School\, and 4-H Arts
DESCRIPTION:Location:\nSeptember: North Hall in the Veterans Memorial Coliseum\nOctober: South Hall in the Veterans Memorial Coliseum \nFrom handmade quilts\, baked goods\, and crafts in Home Arts\, to colorful paintings and projects in Youth & School Arts\, to the hard work and dedication of our 4-H exhibitors\, these displays (many for sale) showcase the imagination\, talent\, and passion of our community.
URL:https://azstatefair.com/event/homeyouth-and-school-and-4-h-arts/2025-10-17/
CATEGORIES:Competitive Entries
ATTACH;FMTTYPE=image/jpeg:https://azstatefair.com/wp-content/uploads/2025/08/home-student-4h-art.jpg
END:VEVENT
BEGIN:VEVENT
DTSTART;TZID=America/Phoenix:20251017T120000
DTEND;TZID=America/Phoenix:20251017T210000
DTSTAMP:20260419T111040
CREATED:20250826T024658Z
LAST-MODIFIED:20250926T235427Z
UID:10002463-1760702400-1760734800@azstatefair.com
SUMMARY:Culinary Arts and Quilts
DESCRIPTION:Location: South Hall in the Veterans Memorial Coliseum \nExplore the heart of the Fair\, where local artistry and tradition come to life. Admire the incredible craftsmanship in every stitch of stunning quilts\, and savor a taste of homemade excellence with mouthwatering baked goods and perfectly preserved jams.
URL:https://azstatefair.com/event/culinary-arts-and-quilts/2025-10-17/
CATEGORIES:Competitive Entries
ATTACH;FMTTYPE=image/png:https://azstatefair.com/wp-content/uploads/2025/08/web_-Culinary-Arts-and-Quilts.png
END:VEVENT
END:VCALENDAR